BEGIN:VCALENDAR
VERSION:2.0
PRODID:-//American Planning Association New Jersey Chapter - ECPv6.15.13//NONSGML v1.0//EN
CALSCALE:GREGORIAN
METHOD:PUBLISH
X-ORIGINAL-URL:https://njplanning.org
X-WR-CALDESC:Events for American Planning Association New Jersey Chapter
REFRESH-INTERVAL;VALUE=DURATION:PT1H
X-Robots-Tag:noindex
X-PUBLISHED-TTL:PT1H
BEGIN:VTIMEZONE
TZID:America/New_York
BEGIN:DAYLIGHT
TZOFFSETFROM:-0500
TZOFFSETTO:-0400
TZNAME:EDT
DTSTART:20110313T070000
END:DAYLIGHT
BEGIN:STANDARD
TZOFFSETFROM:-0400
TZOFFSETTO:-0500
TZNAME:EST
DTSTART:20111106T060000
END:STANDARD
BEGIN:DAYLIGHT
TZOFFSETFROM:-0500
TZOFFSETTO:-0400
TZNAME:EDT
DTSTART:20120311T070000
END:DAYLIGHT
BEGIN:STANDARD
TZOFFSETFROM:-0400
TZOFFSETTO:-0500
TZNAME:EST
DTSTART:20121104T060000
END:STANDARD
BEGIN:DAYLIGHT
TZOFFSETFROM:-0500
TZOFFSETTO:-0400
TZNAME:EDT
DTSTART:20130310T070000
END:DAYLIGHT
BEGIN:STANDARD
TZOFFSETFROM:-0400
TZOFFSETTO:-0500
TZNAME:EST
DTSTART:20131103T060000
END:STANDARD
END:VTIMEZONE
BEGIN:VEVENT
DTSTART;TZID=America/New_York:20120928T083000
DTEND;TZID=America/New_York:20120928T120059
DTSTAMP:20260422T145939
CREATED:20120917T163246Z
LAST-MODIFIED:20120917T163410Z
UID:10001095-1348821000-1348833659@njplanning.org
SUMMARY:Site Remediation - Your Basic Toolkit
DESCRIPTION:CLICK HERE TO REGISTER NOW – Registration ends of Tuesday\, September 25 \nThe New Jersey Builders Association is pleased to offer the seminar\, “Site Remediation – Your Basic Toolkit\,” at Woodward & Curran (East Windsor). \nTopics to be addressed include: \n\nWorking with NJDEP and LSRPs in the changed site remediation landscape;\nLSRP Responsibilities and Oversight;\nPractical considerations before pursuing site cleanups for redevelopment;\nNew technical requirements for homebuilders\, such as presumptive remedies/capping; and\nRemedial Priority Ranking System of Sites.\n\n$40 for members/$55 for non-members \nA Continental Breakfast will be served.  Registration begins at 8:30 am.
URL:https://njplanning.org/event/site-remediation-your-basic-toolkit/
LOCATION:Woodard & Curran (Auditorium Building 100)\, 50 Millstone Road\, East Windsor\, NJ\, 08520\, United States
CATEGORIES:Events
END:VEVENT
END:VCALENDAR