BEGIN:VCALENDAR
VERSION:2.0
PRODID:-//American Planning Association New Jersey Chapter - ECPv6.15.13//NONSGML v1.0//EN
CALSCALE:GREGORIAN
METHOD:PUBLISH
X-ORIGINAL-URL:https://njplanning.org
X-WR-CALDESC:Events for American Planning Association New Jersey Chapter
REFRESH-INTERVAL;VALUE=DURATION:PT1H
X-Robots-Tag:noindex
X-PUBLISHED-TTL:PT1H
BEGIN:VTIMEZONE
TZID:America/New_York
BEGIN:DAYLIGHT
TZOFFSETFROM:-0500
TZOFFSETTO:-0400
TZNAME:EDT
DTSTART:20090308T070000
END:DAYLIGHT
BEGIN:STANDARD
TZOFFSETFROM:-0400
TZOFFSETTO:-0500
TZNAME:EST
DTSTART:20091101T060000
END:STANDARD
BEGIN:DAYLIGHT
TZOFFSETFROM:-0500
TZOFFSETTO:-0400
TZNAME:EDT
DTSTART:20100314T070000
END:DAYLIGHT
BEGIN:STANDARD
TZOFFSETFROM:-0400
TZOFFSETTO:-0500
TZNAME:EST
DTSTART:20101107T060000
END:STANDARD
BEGIN:DAYLIGHT
TZOFFSETFROM:-0500
TZOFFSETTO:-0400
TZNAME:EDT
DTSTART:20110313T070000
END:DAYLIGHT
BEGIN:STANDARD
TZOFFSETFROM:-0400
TZOFFSETTO:-0500
TZNAME:EST
DTSTART:20111106T060000
END:STANDARD
END:VTIMEZONE
BEGIN:VEVENT
DTSTART;TZID=America/New_York:20101103T183000
DTEND;TZID=America/New_York:20101103T203000
DTSTAMP:20260422T121318
CREATED:20110821T202128Z
LAST-MODIFIED:20110821T202723Z
UID:10000799-1288809000-1288816200@njplanning.org
SUMMARY:Fall MIT DUSP Alumni Reception and Open House
DESCRIPTION:Join us on November 3 for a Fall MIT DUSP Alumni Reception and Open House event for alumni and prospective students in New York City. Come to hear current trends in Planning\, Design\, and Development of NYC Schools from DUSP Alumna Sharon Greenberger (MCP ’93) and Department Head Amy Glasmeier. Meet and mingle with NYC-area colleagues\, classmates\, and old friends. \nPlease RSVP by November 1st by visiting: \nhttps://spreadsheets.google.com/viewformformkey=dG5sTGtDei1FcENtd3JhWmhEckFRYkE6MQ&ifq \nSharon Greenberger (MCP ’93) is the Chief Operating Officer for the New York City Department of Education\, where she is responsible for coordinating all operations and programs that serve the City’s 1.1 million public school children\, including 1\,700 schools\, 120\,000 employees and a $22 billion annual operating budget. Previously\, Sharon was the President and CEO of the New York City School Construction Authority. Prior to that\, Ms. Greenberger was Vice President for Campus Planning and Real Estate at New York University (NYU). Before joining NYU\, Sharon was Chief of Staff to the Deputy Mayor for Economic Development and Rebuilding. From 1997-2001\, she was Vice President for Economic Development at the Alliance for Downtown New York\, New York City’s largest Business Improvement District. She has also worked for the Partnership for New York City\, Clinton Housing Development Corporation and the San Francisco Education Fund. Sharon has a BA from Wesleyan University in English and History\, a Masters in City Planning degree from MIT and was a Luce Scholar in Seoul\, Korea in 1993-1994. She lives in Brooklyn with her husband\, Jonathan Fried\, and two daughters. \nThis event is organized by NYC-area alumni of MIT Department of Urban Studies & Planning (DUSP)\, and sponsored by DUSP.
URL:https://njplanning.org/event/fall-mit-dusp-alumni-reception-and-open-house/
LOCATION:The Penthouse at Open Plans\, 148 Lafayette Street\, New York\, NY\, United States
CATEGORIES:Events
END:VEVENT
END:VCALENDAR