BEGIN:VCALENDAR
VERSION:2.0
PRODID:-//American Planning Association New Jersey Chapter - ECPv6.15.13//NONSGML v1.0//EN
CALSCALE:GREGORIAN
METHOD:PUBLISH
X-ORIGINAL-URL:https://njplanning.org
X-WR-CALDESC:Events for American Planning Association New Jersey Chapter
REFRESH-INTERVAL;VALUE=DURATION:PT1H
X-Robots-Tag:noindex
X-PUBLISHED-TTL:PT1H
BEGIN:VTIMEZONE
TZID:America/New_York
BEGIN:DAYLIGHT
TZOFFSETFROM:-0500
TZOFFSETTO:-0400
TZNAME:EDT
DTSTART:20110313T070000
END:DAYLIGHT
BEGIN:STANDARD
TZOFFSETFROM:-0400
TZOFFSETTO:-0500
TZNAME:EST
DTSTART:20111106T060000
END:STANDARD
BEGIN:DAYLIGHT
TZOFFSETFROM:-0500
TZOFFSETTO:-0400
TZNAME:EDT
DTSTART:20120311T070000
END:DAYLIGHT
BEGIN:STANDARD
TZOFFSETFROM:-0400
TZOFFSETTO:-0500
TZNAME:EST
DTSTART:20121104T060000
END:STANDARD
BEGIN:DAYLIGHT
TZOFFSETFROM:-0500
TZOFFSETTO:-0400
TZNAME:EDT
DTSTART:20130310T070000
END:DAYLIGHT
BEGIN:STANDARD
TZOFFSETFROM:-0400
TZOFFSETTO:-0500
TZNAME:EST
DTSTART:20131103T060000
END:STANDARD
END:VTIMEZONE
BEGIN:VEVENT
DTSTART;TZID=America/New_York:20120927T180000
DTEND;TZID=America/New_York:20120927T193059
DTSTAMP:20260422T181814
CREATED:20120909T232148Z
LAST-MODIFIED:20120909T232148Z
UID:10001094-1348768800-1348774259@njplanning.org
SUMMARY:City Planner Book Club Meet Up (CM 1.5)
DESCRIPTION:Our planning careers are pivoted on building communities\, both physically and socially. But what about building literary communities? The premise of the CPBC is simple. Every three months\, APA-NJ and APA-NYM will choose a different book for membership to read. Our current selection is Crabgrass Frontiers: The Suburbanization of the United States. On the third month of these quarterly cycles\, the chapters will organize an in-person meet-up to discuss the featured book at length. Between the time of introduction and meeting-up\, CPBC members are encouraged to participate in an online forum to share their ideas in real-time. Our September 2012 meet-up will be held in Jersey City’s The Merchant Bar and Restaurant from 6:00 to 7:30 p.m. \nRSVP with APA-NJ PDO Christopher Brown at PDO@njplanning.org.
URL:https://njplanning.org/event/city-planner-book-club-meet-up-cm-1-5/
LOCATION:The Merchant\, 279 Grove Street \, Jersey City\, NJ\, 07302\, United States
CATEGORIES:APA-NJ Event,Events
END:VEVENT
END:VCALENDAR