BEGIN:VCALENDAR
VERSION:2.0
PRODID:-//American Planning Association New Jersey Chapter - ECPv6.15.13//NONSGML v1.0//EN
CALSCALE:GREGORIAN
METHOD:PUBLISH
X-WR-CALNAME:American Planning Association New Jersey Chapter
X-ORIGINAL-URL:https://njplanning.org
X-WR-CALDESC:Events for American Planning Association New Jersey Chapter
REFRESH-INTERVAL;VALUE=DURATION:PT1H
X-Robots-Tag:noindex
X-PUBLISHED-TTL:PT1H
BEGIN:VTIMEZONE
TZID:America/New_York
BEGIN:DAYLIGHT
TZOFFSETFROM:-0500
TZOFFSETTO:-0400
TZNAME:EDT
DTSTART:20100314T070000
END:DAYLIGHT
BEGIN:STANDARD
TZOFFSETFROM:-0400
TZOFFSETTO:-0500
TZNAME:EST
DTSTART:20101107T060000
END:STANDARD
BEGIN:DAYLIGHT
TZOFFSETFROM:-0500
TZOFFSETTO:-0400
TZNAME:EDT
DTSTART:20110313T070000
END:DAYLIGHT
BEGIN:STANDARD
TZOFFSETFROM:-0400
TZOFFSETTO:-0500
TZNAME:EST
DTSTART:20111106T060000
END:STANDARD
BEGIN:DAYLIGHT
TZOFFSETFROM:-0500
TZOFFSETTO:-0400
TZNAME:EDT
DTSTART:20120311T070000
END:DAYLIGHT
BEGIN:STANDARD
TZOFFSETFROM:-0400
TZOFFSETTO:-0500
TZNAME:EST
DTSTART:20121104T060000
END:STANDARD
END:VTIMEZONE
BEGIN:VEVENT
DTSTART;TZID=America/New_York:20111215T173000
DTEND;TZID=America/New_York:20111215T203000
DTSTAMP:20260425T213516
CREATED:20111107T021149Z
LAST-MODIFIED:20111107T021149Z
UID:10000971-1323970200-1323981000@njplanning.org
SUMMARY:Downtown New Jersey "Excellence Awards"
DESCRIPTION:Downtown New Jersey (DNJ) is a non-profit corporation comprised of individuals\, business leaders\, government and non-profit representatives that are passionate about downtowns. New Jersey downtowns act as a focal point for our communities\, reflecting their unique identities\, and providing residents with a convenient local place of commerce\, and an opportunity to gather and enjoy their community. The DNJ “Excellence Awards” recognize New Jersey’s best downtown projects and programs. Previous award-winning projects include mini parks\, storefront facade improvements\, train stations\, office buildings\, academic facilities\, riverfront entertainment complexes\, courthouses\, residential developments and parking facilities. Winning submissions are considered models worthy of emulation and are promoted on DNJ website. Our partners for this exciting event include: The Heldrich Center\, NJ Economic Development Authority\, Economic Development Association of NJ\, NJ Future\, Main Street\, NJ\, APA-NJ\, Congress for The New Urbanism- NJ Chapter\, Regional Plan Association-NJ\, NJ TRANSIT\, and Association of Consulting Engineers -New Jersey. \nVisit:  http://www.downtownnj.com/
URL:https://njplanning.org/event/downtown-new-jersey-excellence-awards/
LOCATION:The Heldrich Center – The Perkins-Roosevelt Room\, 10 Livingston Avenue\, New Brunswick\, NJ\, 08901\, United States
CATEGORIES:Events
END:VEVENT
END:VCALENDAR