BEGIN:VCALENDAR
VERSION:2.0
PRODID:-//American Planning Association New Jersey Chapter - ECPv6.15.13//NONSGML v1.0//EN
CALSCALE:GREGORIAN
METHOD:PUBLISH
X-WR-CALNAME:American Planning Association New Jersey Chapter
X-ORIGINAL-URL:https://njplanning.org
X-WR-CALDESC:Events for American Planning Association New Jersey Chapter
REFRESH-INTERVAL;VALUE=DURATION:PT1H
X-Robots-Tag:noindex
X-PUBLISHED-TTL:PT1H
BEGIN:VTIMEZONE
TZID:America/New_York
BEGIN:DAYLIGHT
TZOFFSETFROM:-0500
TZOFFSETTO:-0400
TZNAME:EDT
DTSTART:20130310T070000
END:DAYLIGHT
BEGIN:STANDARD
TZOFFSETFROM:-0400
TZOFFSETTO:-0500
TZNAME:EST
DTSTART:20131103T060000
END:STANDARD
BEGIN:DAYLIGHT
TZOFFSETFROM:-0500
TZOFFSETTO:-0400
TZNAME:EDT
DTSTART:20140309T070000
END:DAYLIGHT
BEGIN:STANDARD
TZOFFSETFROM:-0400
TZOFFSETTO:-0500
TZNAME:EST
DTSTART:20141102T060000
END:STANDARD
BEGIN:DAYLIGHT
TZOFFSETFROM:-0500
TZOFFSETTO:-0400
TZNAME:EDT
DTSTART:20150308T070000
END:DAYLIGHT
BEGIN:STANDARD
TZOFFSETFROM:-0400
TZOFFSETTO:-0500
TZNAME:EST
DTSTART:20151101T060000
END:STANDARD
BEGIN:DAYLIGHT
TZOFFSETFROM:-0500
TZOFFSETTO:-0400
TZNAME:EDT
DTSTART:20160313T070000
END:DAYLIGHT
BEGIN:STANDARD
TZOFFSETFROM:-0400
TZOFFSETTO:-0500
TZNAME:EST
DTSTART:20161106T060000
END:STANDARD
BEGIN:DAYLIGHT
TZOFFSETFROM:-0500
TZOFFSETTO:-0400
TZNAME:EDT
DTSTART:20170312T070000
END:DAYLIGHT
BEGIN:STANDARD
TZOFFSETFROM:-0400
TZOFFSETTO:-0500
TZNAME:EST
DTSTART:20171105T060000
END:STANDARD
BEGIN:DAYLIGHT
TZOFFSETFROM:-0500
TZOFFSETTO:-0400
TZNAME:EDT
DTSTART:20180311T070000
END:DAYLIGHT
BEGIN:STANDARD
TZOFFSETFROM:-0400
TZOFFSETTO:-0500
TZNAME:EST
DTSTART:20181104T060000
END:STANDARD
BEGIN:DAYLIGHT
TZOFFSETFROM:-0500
TZOFFSETTO:-0400
TZNAME:EDT
DTSTART:20190310T070000
END:DAYLIGHT
BEGIN:STANDARD
TZOFFSETFROM:-0400
TZOFFSETTO:-0500
TZNAME:EST
DTSTART:20191103T060000
END:STANDARD
BEGIN:DAYLIGHT
TZOFFSETFROM:-0500
TZOFFSETTO:-0400
TZNAME:EDT
DTSTART:20200308T070000
END:DAYLIGHT
BEGIN:STANDARD
TZOFFSETFROM:-0400
TZOFFSETTO:-0500
TZNAME:EST
DTSTART:20201101T060000
END:STANDARD
BEGIN:DAYLIGHT
TZOFFSETFROM:-0500
TZOFFSETTO:-0400
TZNAME:EDT
DTSTART:20210314T070000
END:DAYLIGHT
BEGIN:STANDARD
TZOFFSETFROM:-0400
TZOFFSETTO:-0500
TZNAME:EST
DTSTART:20211107T060000
END:STANDARD
BEGIN:DAYLIGHT
TZOFFSETFROM:-0500
TZOFFSETTO:-0400
TZNAME:EDT
DTSTART:20220313T070000
END:DAYLIGHT
BEGIN:STANDARD
TZOFFSETFROM:-0400
TZOFFSETTO:-0500
TZNAME:EST
DTSTART:20221106T060000
END:STANDARD
BEGIN:DAYLIGHT
TZOFFSETFROM:-0500
TZOFFSETTO:-0400
TZNAME:EDT
DTSTART:20230312T070000
END:DAYLIGHT
BEGIN:STANDARD
TZOFFSETFROM:-0400
TZOFFSETTO:-0500
TZNAME:EST
DTSTART:20231105T060000
END:STANDARD
BEGIN:DAYLIGHT
TZOFFSETFROM:-0500
TZOFFSETTO:-0400
TZNAME:EDT
DTSTART:20240310T070000
END:DAYLIGHT
BEGIN:STANDARD
TZOFFSETFROM:-0400
TZOFFSETTO:-0500
TZNAME:EST
DTSTART:20241103T060000
END:STANDARD
BEGIN:DAYLIGHT
TZOFFSETFROM:-0500
TZOFFSETTO:-0400
TZNAME:EDT
DTSTART:20250309T070000
END:DAYLIGHT
BEGIN:STANDARD
TZOFFSETFROM:-0400
TZOFFSETTO:-0500
TZNAME:EST
DTSTART:20251102T060000
END:STANDARD
BEGIN:DAYLIGHT
TZOFFSETFROM:-0500
TZOFFSETTO:-0400
TZNAME:EDT
DTSTART:20260308T070000
END:DAYLIGHT
BEGIN:STANDARD
TZOFFSETFROM:-0400
TZOFFSETTO:-0500
TZNAME:EST
DTSTART:20261101T060000
END:STANDARD
END:VTIMEZONE
BEGIN:VEVENT
DTSTART;TZID=America/New_York:20251216T180000
DTEND;TZID=America/New_York:20251216T180000
DTSTAMP:20260422T111025
CREATED:20251109T190254Z
LAST-MODIFIED:20251109T192015Z
UID:10001680-1765908000-1765908000@njplanning.org
SUMMARY:2025 NJ Planning Excellence & Great Places Awards Reception
DESCRIPTION:
URL:https://njplanning.org/event/2025-nj-planning-excellence-great-places-awards-reception/
LOCATION:South Orange Performing Arts Center\, 1 SOPAC Way\, South Orange\, NJ\, 07079\, United States
ATTACH;FMTTYPE=image/png:https://njplanning.org/wp-content/uploads/2025-Awards-Banner.png
END:VEVENT
BEGIN:VEVENT
DTSTART;TZID=America/New_York:20241212T180000
DTEND;TZID=America/New_York:20241212T210000
DTSTAMP:20260422T111025
CREATED:20241104T024006Z
LAST-MODIFIED:20241217T234911Z
UID:10001640-1734026400-1734037200@njplanning.org
SUMMARY:2024 APA New Jersey Annual Awards Reception
DESCRIPTION:
URL:https://njplanning.org/event/2024-apa-new-jersey-annual-awards-reception/
LOCATION:South Orange Performing Arts Center\, 1 SOPAC Way\, South Orange\, NJ\, 07079\, United States
CATEGORIES:APA-NJ Event,Events
END:VEVENT
BEGIN:VEVENT
DTSTART;TZID=America/New_York:20231214T180000
DTEND;TZID=America/New_York:20231214T203000
DTSTAMP:20260422T111025
CREATED:20231204T184016Z
LAST-MODIFIED:20231204T184016Z
UID:10001612-1702576800-1702585800@njplanning.org
SUMMARY:2023 Planning Awards Reception
DESCRIPTION:
URL:https://njplanning.org/event/2023-planning-awards-reception/
LOCATION:South Orange Performing Arts Center\, 1 SOPAC Way\, South Orange\, NJ\, 07079\, United States
CATEGORIES:APA-NJ Event,Events
ORGANIZER;CN="APA New Jersey":MAILTO:office@njplanning.org
END:VEVENT
BEGIN:VEVENT
DTSTART;TZID=America/New_York:20221215T180000
DTEND;TZID=America/New_York:20221215T200000
DTSTAMP:20260422T111025
CREATED:20221114T000337Z
LAST-MODIFIED:20221125T145007Z
UID:10001582-1671127200-1671134400@njplanning.org
SUMMARY:2022 APA New Jersey Awards Reception
DESCRIPTION:
URL:https://njplanning.org/event/2022-apa-new-jersey-awards-reception/
LOCATION:South Orange Performing Arts Center\, 1 SOPAC Way\, South Orange\, NJ\, 07079\, United States
CATEGORIES:APA-NJ Event,Events
END:VEVENT
BEGIN:VEVENT
DTSTART;TZID=America/New_York:20181029T180000
DTEND;TZID=America/New_York:20181029T200000
DTSTAMP:20260422T111025
CREATED:20181015T115241Z
LAST-MODIFIED:20181015T115241Z
UID:10001461-1540836000-1540843200@njplanning.org
SUMMARY:Great Places in New Jersey Awards Reception
DESCRIPTION:
URL:https://njplanning.org/event/great-places-in-new-jersey-awards-reception/
LOCATION:South Orange Performing Arts Center\, 1 SOPAC Way\, South Orange\, NJ\, 07079\, United States
CATEGORIES:APA-NJ Event,Events
ORGANIZER;CN="APA New Jersey":MAILTO:office@njplanning.org
END:VEVENT
BEGIN:VEVENT
DTSTART;TZID=America/New_York:20140430T090000
DTEND;TZID=America/New_York:20140430T160000
DTSTAMP:20260422T111025
CREATED:20140224T150915Z
LAST-MODIFIED:20140224T151159Z
UID:10001260-1398848400-1398873600@njplanning.org
SUMMARY:Digital Downtown 2014: Moving Partners\, Customers & Stakeholders to Action
DESCRIPTION:CLICK HERE TO REGISTER – APA-NJ MEMBERS RECEIVE A 10% DISCOUNT\n\nHosted at the world-class South Orange Performing Arts Center(SOPAC) in  South Orange Village Center – a Main Street New Jersey community since 1991.  \nThis fun and fast-paced workshop will help you raise your game for using the tools of the digital trade to your organization’s\, businesses’ or personal professional advantage. \nAPA 3.75 CM Credits Pending  \nAgenda \n9:15am – 9:30am — Welcome & Overview \n9:30am – 10:00am — Introduction & Be Your Own (Digital) Guru \n\nSurvey results discussed  \nExpectations of the day\nClimbing the Engagement Ladder\n\n10:00am – 11:00am — Learn the Digital RealmDigital Communication Strategy \n\nFundamentals and framework for thinking\nGroundwork for tactics\n\nYour Digital Footprint and the Social Landscape \n\nUse relevant downtown groups\nWalk-through of platforms: YouTube\, FB\, Twitter – (others on demand: Pinterest\, Instagram\, LinkedIn)\nCase studies + Q/A\n\n11a-12:30pm — Be Human: Keeping it Real on Digital \nWhat should we say on social? \n\nDay-to-day content and conversations\nCreate your social ‘diet’\nExternal sources of inspiration\nManaging social interns\n\nSocial Website Strategy: It’s more than an Icon \n\nDon’t be a hostage to a developer\nBasics of an effective site\nSocial relationship to website\n\n12:30pm-1:45pm — Lunch (two options) \n\nOption 1: Mobile Tour of South Orange Village Center with lunch included (free!)\nOption 2: Lunch on your own in South Orange Village Center\n\n1:45pm – 2:45pm — Be Creative: Marketing \n8 Advanced Marketing Tactics \n\nCover strong marketing and content ideas\nQuestion/Answer creating tactics for individuals\n\n2:45pm – 4:00pm — Use Data \nDoes it even matter? ROI of Digital \n\nProcess for looking at our data\nRelation of social activity to web\nSetting goals for social\nWhat to measure and what not to\n\nGoogle Analytics for Digital Marketing \n\nFinding and using Data\nUnderstanding Analytics basics\nScheduling dashboards\n\nWhat now? \n\nNext steps planning
URL:https://njplanning.org/event/digital-downtown-2014-moving-partners-customers-stakeholders-to-action/
LOCATION:South Orange Performing Arts Center\, 1 SOPAC Way\, South Orange\, NJ\, 07079\, United States
CATEGORIES:APA-NJ Event,Events
END:VEVENT
END:VCALENDAR