BEGIN:VCALENDAR
VERSION:2.0
PRODID:-//American Planning Association New Jersey Chapter - ECPv6.15.13//NONSGML v1.0//EN
CALSCALE:GREGORIAN
METHOD:PUBLISH
X-WR-CALNAME:American Planning Association New Jersey Chapter
X-ORIGINAL-URL:https://njplanning.org
X-WR-CALDESC:Events for American Planning Association New Jersey Chapter
REFRESH-INTERVAL;VALUE=DURATION:PT1H
X-Robots-Tag:noindex
X-PUBLISHED-TTL:PT1H
BEGIN:VTIMEZONE
TZID:America/New_York
BEGIN:DAYLIGHT
TZOFFSETFROM:-0500
TZOFFSETTO:-0400
TZNAME:EDT
DTSTART:20130310T070000
END:DAYLIGHT
BEGIN:STANDARD
TZOFFSETFROM:-0400
TZOFFSETTO:-0500
TZNAME:EST
DTSTART:20131103T060000
END:STANDARD
BEGIN:DAYLIGHT
TZOFFSETFROM:-0500
TZOFFSETTO:-0400
TZNAME:EDT
DTSTART:20140309T070000
END:DAYLIGHT
BEGIN:STANDARD
TZOFFSETFROM:-0400
TZOFFSETTO:-0500
TZNAME:EST
DTSTART:20141102T060000
END:STANDARD
BEGIN:DAYLIGHT
TZOFFSETFROM:-0500
TZOFFSETTO:-0400
TZNAME:EDT
DTSTART:20150308T070000
END:DAYLIGHT
BEGIN:STANDARD
TZOFFSETFROM:-0400
TZOFFSETTO:-0500
TZNAME:EST
DTSTART:20151101T060000
END:STANDARD
END:VTIMEZONE
BEGIN:VEVENT
DTSTART;TZID=America/New_York:20140925T083000
DTEND;TZID=America/New_York:20140925T110000
DTSTAMP:20260422T121753
CREATED:20140821T181914Z
LAST-MODIFIED:20140821T181914Z
UID:10001304-1411633800-1411642800@njplanning.org
SUMMARY:Cooperative Marketing: A workshop for BIDs and Planning Practitioners (CM|2)
DESCRIPTION:Organizing\, designing\, agreeing…and the dreaded collecting. Join DVRPC\, the Collingswood BID\, and Leigh Minor Nagy from Minor Bird Retail Therapy\, on how to make cooperative marketing effective\, smart\, and as pleasant as possible. \n$25 fee includes breakfast and materials. \nhttp://www.dvrpc.org/email/2014-08_BID.htm
URL:https://njplanning.org/event/cooperative-marketing-a-workshop-for-bids-and-planning-practitioners-cm2/
LOCATION:Scottish Rite Theater\, 315 White Horse Pike\, Collingswood\, NJ\, 08108\, United States
END:VEVENT
END:VCALENDAR