BEGIN:VCALENDAR
VERSION:2.0
PRODID:-//American Planning Association New Jersey Chapter - ECPv6.15.13//NONSGML v1.0//EN
CALSCALE:GREGORIAN
METHOD:PUBLISH
X-WR-CALNAME:American Planning Association New Jersey Chapter
X-ORIGINAL-URL:https://njplanning.org
X-WR-CALDESC:Events for American Planning Association New Jersey Chapter
REFRESH-INTERVAL;VALUE=DURATION:PT1H
X-Robots-Tag:noindex
X-PUBLISHED-TTL:PT1H
BEGIN:VTIMEZONE
TZID:America/New_York
BEGIN:DAYLIGHT
TZOFFSETFROM:-0500
TZOFFSETTO:-0400
TZNAME:EDT
DTSTART:20090308T070000
END:DAYLIGHT
BEGIN:STANDARD
TZOFFSETFROM:-0400
TZOFFSETTO:-0500
TZNAME:EST
DTSTART:20091101T060000
END:STANDARD
BEGIN:DAYLIGHT
TZOFFSETFROM:-0500
TZOFFSETTO:-0400
TZNAME:EDT
DTSTART:20100314T070000
END:DAYLIGHT
BEGIN:STANDARD
TZOFFSETFROM:-0400
TZOFFSETTO:-0500
TZNAME:EST
DTSTART:20101107T060000
END:STANDARD
BEGIN:DAYLIGHT
TZOFFSETFROM:-0500
TZOFFSETTO:-0400
TZNAME:EDT
DTSTART:20110313T070000
END:DAYLIGHT
BEGIN:STANDARD
TZOFFSETFROM:-0400
TZOFFSETTO:-0500
TZNAME:EST
DTSTART:20111106T060000
END:STANDARD
END:VTIMEZONE
BEGIN:VEVENT
DTSTART;TZID=America/New_York:20101025T170000
DTEND;TZID=America/New_York:20101025T200000
DTSTAMP:20260422T121324
CREATED:20110821T185803Z
LAST-MODIFIED:20110821T185803Z
UID:10000861-1288026000-1288036800@njplanning.org
SUMMARY:IOREBA 3rd Annual Urban Developer's Night
DESCRIPTION:We are pleased to announce the 3rd Annual Urban Developer’s Night will be held Monday\, October 25\, 2010 at 5:00 PM at the Robert Treat Hotel\, Newark\, NJ. Last year we had over 30 display tables and over 250 attendees. \nSpeaker: Ted Zangari\, Member\, Sills Cummis & Gross P.C. and Founder of Smart Growth Economic Development Coalition \nTopic: Closing The Redevelopment Financing Gap–Urban Transit Hub Tax Credit\,s ERGGs and More \nDisplay Tables:Urban Developers night last year was a great success and let’s make this even better. We need your help and support in both attendance & companies to buy display tables. If you know a developer\, investor\, architect\, engineer\, lawyer\, general contractor and any other professional who would be interested in displaying their urban property or service please invite them or reach out for Kurt Kalafsky or Ann Violette. \nThe table costs $350.00 which includes 2 free dinner tickets. Table Setup is from 4:00 to 5:00. \nEvent Sponsorship:The cost to sponsor this event is $500.00 which includes 2 free dinner tickets. We will have four event sponsors at every event. Your company name will be displayed during the entire cocktail hour & dinner. For information about sponsoring this event\, contact: Ann Violette at annviolette@gmail.com. \n  \nwww.ioreba.com
URL:https://njplanning.org/event/ioreba-3rd-annual-urban-developers-night/
LOCATION:Robert Treat Hotel\, Newark\, NJ\, United States
CATEGORIES:Events
END:VEVENT
END:VCALENDAR