BEGIN:VCALENDAR
VERSION:2.0
PRODID:-//American Planning Association New Jersey Chapter - ECPv6.15.13//NONSGML v1.0//EN
CALSCALE:GREGORIAN
METHOD:PUBLISH
X-ORIGINAL-URL:https://njplanning.org
X-WR-CALDESC:Events for American Planning Association New Jersey Chapter
REFRESH-INTERVAL;VALUE=DURATION:PT1H
X-Robots-Tag:noindex
X-PUBLISHED-TTL:PT1H
BEGIN:VTIMEZONE
TZID:America/New_York
BEGIN:DAYLIGHT
TZOFFSETFROM:-0500
TZOFFSETTO:-0400
TZNAME:EDT
DTSTART:20120311T070000
END:DAYLIGHT
BEGIN:STANDARD
TZOFFSETFROM:-0400
TZOFFSETTO:-0500
TZNAME:EST
DTSTART:20121104T060000
END:STANDARD
BEGIN:DAYLIGHT
TZOFFSETFROM:-0500
TZOFFSETTO:-0400
TZNAME:EDT
DTSTART:20130310T070000
END:DAYLIGHT
BEGIN:STANDARD
TZOFFSETFROM:-0400
TZOFFSETTO:-0500
TZNAME:EST
DTSTART:20131103T060000
END:STANDARD
BEGIN:DAYLIGHT
TZOFFSETFROM:-0500
TZOFFSETTO:-0400
TZNAME:EDT
DTSTART:20140309T070000
END:DAYLIGHT
BEGIN:STANDARD
TZOFFSETFROM:-0400
TZOFFSETTO:-0500
TZNAME:EST
DTSTART:20141102T060000
END:STANDARD
END:VTIMEZONE
BEGIN:VEVENT
DTSTART;TZID=America/New_York:20130919T090000
DTEND;TZID=America/New_York:20130919T123000
DTSTAMP:20260422T202123
CREATED:20130819T024743Z
LAST-MODIFIED:20130913T025146Z
UID:10001194-1379581200-1379593800@njplanning.org
SUMMARY:State and Federal Regulation of Sandy Aid Seminar
DESCRIPTION:Super Storm Sandy caused billions of dollars of damage along the Jersey shore. In order to spur rebuilding the State and Federal government has provided a massive amount of funds to municipalities. Attached to these funds is a host of rules and regulations. This seminar will review how the State of New Jersey\, HUD\, and FEMA are funding the rebuilding effort and discuss these legal requirements. This event is a League Professional Development Program sponsored by the NJ League of Municipalities. \nClick Here to Register
URL:https://njplanning.org/event/state-and-federal-regulation-of-sandy-aid-seminar/
LOCATION:Robert Meyner Reception Center At PNC Bank Arts Center\, Exit 116\, Garden State Pkwy\, Holmdel\, NJ\, 07733\, United States
END:VEVENT
END:VCALENDAR