BEGIN:VCALENDAR
VERSION:2.0
PRODID:-//American Planning Association New Jersey Chapter - ECPv6.15.13//NONSGML v1.0//EN
CALSCALE:GREGORIAN
METHOD:PUBLISH
X-WR-CALNAME:American Planning Association New Jersey Chapter
X-ORIGINAL-URL:https://njplanning.org
X-WR-CALDESC:Events for American Planning Association New Jersey Chapter
REFRESH-INTERVAL;VALUE=DURATION:PT1H
X-Robots-Tag:noindex
X-PUBLISHED-TTL:PT1H
BEGIN:VTIMEZONE
TZID:America/New_York
BEGIN:DAYLIGHT
TZOFFSETFROM:-0500
TZOFFSETTO:-0400
TZNAME:EDT
DTSTART:20140309T070000
END:DAYLIGHT
BEGIN:STANDARD
TZOFFSETFROM:-0400
TZOFFSETTO:-0500
TZNAME:EST
DTSTART:20141102T060000
END:STANDARD
BEGIN:DAYLIGHT
TZOFFSETFROM:-0500
TZOFFSETTO:-0400
TZNAME:EDT
DTSTART:20150308T070000
END:DAYLIGHT
BEGIN:STANDARD
TZOFFSETFROM:-0400
TZOFFSETTO:-0500
TZNAME:EST
DTSTART:20151101T060000
END:STANDARD
BEGIN:DAYLIGHT
TZOFFSETFROM:-0500
TZOFFSETTO:-0400
TZNAME:EDT
DTSTART:20160313T070000
END:DAYLIGHT
BEGIN:STANDARD
TZOFFSETFROM:-0400
TZOFFSETTO:-0500
TZNAME:EST
DTSTART:20161106T060000
END:STANDARD
END:VTIMEZONE
BEGIN:VEVENT
DTSTART;TZID=America/New_York:20150722T080000
DTEND;TZID=America/New_York:20150722T170000
DTSTAMP:20260422T093802
CREATED:20150721T175936Z
LAST-MODIFIED:20150721T180017Z
UID:10001365-1437552000-1437584400@njplanning.org
SUMMARY:Store Design & Placemaking: Tactics & Strategies to Make Your District Extraordinary NOW
DESCRIPTION:REGISTER NOW \nHosted at the Reformed Church of Highland Park in downtown Highland Park – a Main Street New Jersey community since 2002. \nThe 62nd NJ Downtown Institute for Summer 2015 will get you up to speed on making your downtown look better and be the best “place” it can be! Join Mike Lydon\, co-author of Tactical Urbanism and Seanette Corkill\, nationally-known store designer\, for a day of learning how to make exceptional design happen in your public spaces\, businesses\, and district as a whole. With hundreds of photos\, Seanette will share first hand the 7 Essentials of Effective Storefronts and reveal 16 years of insider tricks for creating the best store windows ever. Mike will give you a host of real-world examples of how to improve streets\, streetscapes\, and public spaces using a hands-on “do it now” approach to bring your downtown district into the 21st century for enhancing its community and economic vibrancy. \nAPA 5.5 CM Credits (Pending) \nAgenda\n8:00am – 9:00am — Registration9:00am – 9:15am — Welcome and Introduction9:15am – 10:45am — The Seven Essentials of Effective Storefronts\, Seanette Corkill10:45am – 12:00pm — The Naked Truth About “Well-Dressed” Windows (Why Windows Matter And Taking the ‘Pane’ Out Of Designing Displays)\, Seanette Corkill12:00pm – 1:15pm — Lunch on your own in downtown Highland Park1:15pm – 4:00pm — Using Tactical Urbanism to Make Your District Extraordinary\, Mike Lydon \nSession Details\nThe Seven Essentials of Effective StorefrontsYour story starts long before customers walk in the door but once they’re there\, do they like what they see? Are they happy they made the trip? From sidewalks to signage\, from windows to paint\, from the front door all the way to the back\, everything matters and even a series of small changes can make a big impact on how many and who walks in your door. \nThe Naked Truth About “Well-Dressed” Windows You can’t always paint or add a new sign overnight but you CAN change your windows. Windows are some of the most valuable real estate you pay for each month – learn how to get your money’s worth out of them and delight and engage everyone who walks by your store. \nUsing Tactical Urbanism to Make Your District ExtraordinaryWhat is Tactical Urbanism and how can you apply it effectively in your district and community to make it extraordinary? Get an real-world overview of core Tactical Urbanism principles and project types that you can use NOW and typically for not a lot of money. This session includes a break-out workshop to help you drill down to specific projects for your particular situation.
URL:https://njplanning.org/event/store-design-placemaking-tactics-strategies-to-make-your-district-extraordinary-now/
LOCATION:Reformed Church of Highland Park\, 19 S. 2nd Ave. \, Highland Park\, NJ\, 08904\, United States
CATEGORIES:APA-NJ Event,Events
END:VEVENT
END:VCALENDAR