BEGIN:VCALENDAR
VERSION:2.0
PRODID:-//American Planning Association New Jersey Chapter - ECPv6.15.13//NONSGML v1.0//EN
CALSCALE:GREGORIAN
METHOD:PUBLISH
X-WR-CALNAME:American Planning Association New Jersey Chapter
X-ORIGINAL-URL:https://njplanning.org
X-WR-CALDESC:Events for American Planning Association New Jersey Chapter
REFRESH-INTERVAL;VALUE=DURATION:PT1H
X-Robots-Tag:noindex
X-PUBLISHED-TTL:PT1H
BEGIN:VTIMEZONE
TZID:America/New_York
BEGIN:DAYLIGHT
TZOFFSETFROM:-0500
TZOFFSETTO:-0400
TZNAME:EDT
DTSTART:20100314T070000
END:DAYLIGHT
BEGIN:STANDARD
TZOFFSETFROM:-0400
TZOFFSETTO:-0500
TZNAME:EST
DTSTART:20101107T060000
END:STANDARD
BEGIN:DAYLIGHT
TZOFFSETFROM:-0500
TZOFFSETTO:-0400
TZNAME:EDT
DTSTART:20110313T070000
END:DAYLIGHT
BEGIN:STANDARD
TZOFFSETFROM:-0400
TZOFFSETTO:-0500
TZNAME:EST
DTSTART:20111106T060000
END:STANDARD
BEGIN:DAYLIGHT
TZOFFSETFROM:-0500
TZOFFSETTO:-0400
TZNAME:EDT
DTSTART:20120311T070000
END:DAYLIGHT
BEGIN:STANDARD
TZOFFSETFROM:-0400
TZOFFSETTO:-0500
TZNAME:EST
DTSTART:20121104T060000
END:STANDARD
END:VTIMEZONE
BEGIN:VEVENT
DTSTART;TZID=America/New_York:20111129T130000
DTEND;TZID=America/New_York:20111129T150000
DTSTAMP:20260425T122806
CREATED:20111106T010235Z
LAST-MODIFIED:20111107T020610Z
UID:10000969-1322571600-1322578800@njplanning.org
SUMMARY:Coalition for Affordable Housing and the Environment (CAHE) Annual Meeting
DESCRIPTION:Presentation by John Hasse\, PH.D. AICP\, Rowan Universit on Evidence of Persistent Exclusionary Effects of Land Use Policy within Historic and Projected Development Patterns in New Jersey…followed by discussion with Alan Mallach\, FAICP Research Director of the National Housing Institute and environmental consultant Candace Ashmun regarding implications relative to housing and the environment.
URL:https://njplanning.org/event/coalition-for-affordable-housing-and-the-environment-cahe-annual-meeting/
LOCATION:Offices of HCDNNJ\, 145 W. Hanover St\, Trenton\, NJ\, 08618\, United States
CATEGORIES:Events
END:VEVENT
END:VCALENDAR