BEGIN:VCALENDAR
VERSION:2.0
PRODID:-//American Planning Association New Jersey Chapter - ECPv6.15.13//NONSGML v1.0//EN
CALSCALE:GREGORIAN
METHOD:PUBLISH
X-WR-CALNAME:American Planning Association New Jersey Chapter
X-ORIGINAL-URL:https://njplanning.org
X-WR-CALDESC:Events for American Planning Association New Jersey Chapter
REFRESH-INTERVAL;VALUE=DURATION:PT1H
X-Robots-Tag:noindex
X-PUBLISHED-TTL:PT1H
BEGIN:VTIMEZONE
TZID:America/New_York
BEGIN:DAYLIGHT
TZOFFSETFROM:-0500
TZOFFSETTO:-0400
TZNAME:EDT
DTSTART:20100314T070000
END:DAYLIGHT
BEGIN:STANDARD
TZOFFSETFROM:-0400
TZOFFSETTO:-0500
TZNAME:EST
DTSTART:20101107T060000
END:STANDARD
BEGIN:DAYLIGHT
TZOFFSETFROM:-0500
TZOFFSETTO:-0400
TZNAME:EDT
DTSTART:20110313T070000
END:DAYLIGHT
BEGIN:STANDARD
TZOFFSETFROM:-0400
TZOFFSETTO:-0500
TZNAME:EST
DTSTART:20111106T060000
END:STANDARD
BEGIN:DAYLIGHT
TZOFFSETFROM:-0500
TZOFFSETTO:-0400
TZNAME:EDT
DTSTART:20120311T070000
END:DAYLIGHT
BEGIN:STANDARD
TZOFFSETFROM:-0400
TZOFFSETTO:-0500
TZNAME:EST
DTSTART:20121104T060000
END:STANDARD
END:VTIMEZONE
BEGIN:VEVENT
DTSTART;TZID=America/New_York:20110628T180000
DTEND;TZID=America/New_York:20110628T200000
DTSTAMP:20260422T073830
CREATED:20110823T021028Z
LAST-MODIFIED:20110823T021028Z
UID:10000878-1309284000-1309291200@njplanning.org
SUMMARY:SMPS-NJ 2011 Honor Awards Reception
DESCRIPTION:Please join the New Jersey Chapter of the Society for Marketing Professional Services in celebrating the achievements of four honorees who have made significant and lasting contributions to the Garden State’s built environment and community. \nPUBLIC SERVICE AWARDSJennifer BeckSenatorNew Jersey’s 12th District \nMary K. MurphyExecutive DirectorNorth Jersey Transportation Planning Authority \nPRIVATE SECTOR AWARDJFK Medical CenterEdison\, New Jersey \nSUSTAINABILITY AWARDDianne GravattDirector\, Environmental Services and GroundsRutgers University \nClick Here to Register: http://www.smpsnj.org/ \nAPA-NJ Members have been invited to register at the SMPS-NJ “Member-Rate”
URL:https://njplanning.org/event/smps-nj-2011-honor-awards-reception/
LOCATION:Newark Club\, 1085 Raymond Boulevard\, Newark\, NJ\, United States
CATEGORIES:Events
END:VEVENT
BEGIN:VEVENT
DTSTART;TZID=America/New_York:20110609T173000
DTEND;TZID=America/New_York:20110609T200000
DTSTAMP:20260422T073830
CREATED:20110823T012105Z
LAST-MODIFIED:20110823T012105Z
UID:10000952-1307640600-1307649600@njplanning.org
SUMMARY:New Jersey Future Smart Growth Awards
DESCRIPTION:Please join us for cocktails and hors d’oeuvres as we honor seven innovative smart-growth development plans and projects and one visionary New Jersey leader. You’ll also have the opportunity to bid for such goodies as a magnum of wine or four tickets to the Metropolitan Museum of Art including dinner in the Trustees’ Dining room at our silent auction. Earlybird discount ends May 27! \nVisit: http://www.njfuture.org/index.cfm?ctn=9t45e1o30v9g&emn=5u92y86g2h42&fuseaction=user.xcontent&XContent=4_19_115
URL:https://njplanning.org/event/new-jersey-future-smart-growth-awards/
LOCATION:Newark Club\, 1085 Raymond Boulevard\, Newark\, NJ\, United States
CATEGORIES:Events
END:VEVENT
END:VCALENDAR