BEGIN:VCALENDAR
VERSION:2.0
PRODID:-//American Planning Association New Jersey Chapter - ECPv6.15.13//NONSGML v1.0//EN
CALSCALE:GREGORIAN
METHOD:PUBLISH
X-WR-CALNAME:American Planning Association New Jersey Chapter
X-ORIGINAL-URL:https://njplanning.org
X-WR-CALDESC:Events for American Planning Association New Jersey Chapter
REFRESH-INTERVAL;VALUE=DURATION:PT1H
X-Robots-Tag:noindex
X-PUBLISHED-TTL:PT1H
BEGIN:VTIMEZONE
TZID:America/New_York
BEGIN:DAYLIGHT
TZOFFSETFROM:-0500
TZOFFSETTO:-0400
TZNAME:EDT
DTSTART:20110313T070000
END:DAYLIGHT
BEGIN:STANDARD
TZOFFSETFROM:-0400
TZOFFSETTO:-0500
TZNAME:EST
DTSTART:20111106T060000
END:STANDARD
BEGIN:DAYLIGHT
TZOFFSETFROM:-0500
TZOFFSETTO:-0400
TZNAME:EDT
DTSTART:20120311T070000
END:DAYLIGHT
BEGIN:STANDARD
TZOFFSETFROM:-0400
TZOFFSETTO:-0500
TZNAME:EST
DTSTART:20121104T060000
END:STANDARD
BEGIN:DAYLIGHT
TZOFFSETFROM:-0500
TZOFFSETTO:-0400
TZNAME:EDT
DTSTART:20130310T070000
END:DAYLIGHT
BEGIN:STANDARD
TZOFFSETFROM:-0400
TZOFFSETTO:-0500
TZNAME:EST
DTSTART:20131103T060000
END:STANDARD
END:VTIMEZONE
BEGIN:VEVENT
DTSTART;VALUE=DATE:20120418
DTEND;VALUE=DATE:20120420
DTSTAMP:20260422T093654
CREATED:20120214T171923Z
LAST-MODIFIED:20120214T172639Z
UID:10001023-1334707200-1334879999@njplanning.org
SUMMARY:Destination Meadowlands: Recruiting Retail and Growing Businesses Locally
DESCRIPTION:  \n  \n  \n  \n  \n  \n  \nClick Here to Register \nDAY ONE\nGrowing your District: Retail RecruitmentApril 18\, 2012 \nRetail Recruitment Tools and Methods for Business District Managers\, Chamber Officials and Leaders involved in recruiting businesses to their districts. \nNew Jersey Meadowlands Commission Environment Center \nNOTE: Each pre-registrant shall receive a packet of current economic data\, pertinent to their respective commercial district\, for use in retail recruitment. The packet will include: a site map of the district; demographic and income data; lifestyle (psychographic) data; retail supply and demand data for 3 radii of the district; a summary of the existing businesses; and updated traffic counts in and near their district. \n8:00 am: Registration\, refreshments \n8:45 am: Program introduction: NJMC & MSNJ \n9:00 am: Retail Recruitment: Program Overview (JGSC Group) \n9:15 am: Recruitment lexicon: a discussion of the language used by the retail industry that the downtown manager needs to know \n9:45 am: Site selection: the process and criteria for identifying best sites on which to prioritize the recruitment program \n10:30 am: Break \n10:45 am: Retail mix: using recruitment as a tool to achieve optimal retail mix for the trade area \n12:00 pm: Break to distribute lunch. Lunchtime Remarks TBC \n12:15 pm: (Program resumes during meal) Market data: the use of market data to determine sustainable categories \nA.  Discussion of process \nB.  Review of data packages (generic discussion to describe components included in each data package) \n1. A site map of their district\, with 3 radii centered on their busiest\, or as the industry calls it\, their “100% intersection”; \n2. Demographic and income data; \n3. Lifestyle (psychographic) data; \n4. Retail supply and demand data for the 3 radii; \n5. A summary of existing businesses; and \n6. Updated traffic counts in and near their site. \n2:30 pm: Break \n2:45 pm: Prospecting: the identification\, prequalification\, and solicitation of appropriate retail prospects \n3:30 pm: Final Q & A \n4:00 pm: Program ends. \n\nDAY TWO\nGrowing Your Own:  Building Destination BusinessesApril 19\, 2012 \nCutting Edge Approaches to Success for Small Business Owners/Operators. Downtown Professionals and Officials \nNew Jersey Meadowlands Commission Environment Center \nThursday\, April 19\, 2012— \n8:00-9:00 Registration\, Networking\, Coffee & Refreshments \n9:00 Welcome \n9:10 Introduction- NJMC\, Main Street New Jersey & Improvement District Programs \n9:15-10:45 How to Make Your Current Business a Destination\, Pt. 1: Steps and tools you can use right now to increase your businesses’ profits\, reach and sustainability —Jon Schallert (www.destinationuniversity.com) \n10:45-11:00 Break \n11:00-12:30 How to Make Your Current Business a Destination\, Pt. 2: Steps and tools you can use right now to increase your businesses’ profits\, reach and sustainability —Jon Schallert\, Principal\, The Schallert Group \n12:30-1:30 Lunch \nRemarks: TBC \n1:30-2:30 The Most Bang for your Buck: Advertising Tips and Techniques for Tough Times – Best practices to leverage your businesses’ assets and maximize your media and message —Rich Carraro\, Principal\, www.Clownbike.com \n2:30-4:00 Destination Marketing Roundtable: Jon will address individual marketing and destination creation challenges of attendees\, giving them a specific Take-Away Plan to take home and implement using his Destination Strategies \n 
URL:https://njplanning.org/event/destination-meadowlands-recruiting-retail-and-growing-businesses-locally/
LOCATION:New Jersey Meadowlands Commission Environmental Center\,  Richard W. DeKorte Park \, Lyndhurst\, NJ\, 07071\, United States
CATEGORIES:Events
END:VEVENT
END:VCALENDAR