BEGIN:VCALENDAR
VERSION:2.0
PRODID:-//American Planning Association New Jersey Chapter - ECPv6.15.13//NONSGML v1.0//EN
CALSCALE:GREGORIAN
METHOD:PUBLISH
X-WR-CALNAME:American Planning Association New Jersey Chapter
X-ORIGINAL-URL:https://njplanning.org
X-WR-CALDESC:Events for American Planning Association New Jersey Chapter
REFRESH-INTERVAL;VALUE=DURATION:PT1H
X-Robots-Tag:noindex
X-PUBLISHED-TTL:PT1H
BEGIN:VTIMEZONE
TZID:America/New_York
BEGIN:DAYLIGHT
TZOFFSETFROM:-0500
TZOFFSETTO:-0400
TZNAME:EDT
DTSTART:20120311T070000
END:DAYLIGHT
BEGIN:STANDARD
TZOFFSETFROM:-0400
TZOFFSETTO:-0500
TZNAME:EST
DTSTART:20121104T060000
END:STANDARD
BEGIN:DAYLIGHT
TZOFFSETFROM:-0500
TZOFFSETTO:-0400
TZNAME:EDT
DTSTART:20130310T070000
END:DAYLIGHT
BEGIN:STANDARD
TZOFFSETFROM:-0400
TZOFFSETTO:-0500
TZNAME:EST
DTSTART:20131103T060000
END:STANDARD
BEGIN:DAYLIGHT
TZOFFSETFROM:-0500
TZOFFSETTO:-0400
TZNAME:EDT
DTSTART:20140309T070000
END:DAYLIGHT
BEGIN:STANDARD
TZOFFSETFROM:-0400
TZOFFSETTO:-0500
TZNAME:EST
DTSTART:20141102T060000
END:STANDARD
END:VTIMEZONE
BEGIN:VEVENT
DTSTART;TZID=America/New_York:20131029T083000
DTEND;TZID=America/New_York:20131029T163000
DTSTAMP:20260423T075800
CREATED:20130921T014732Z
LAST-MODIFIED:20131023T155251Z
UID:10001072-1383035400-1383064200@njplanning.org
SUMMARY:Sandy One Year Later: Looking to the Future (CM | 5.5)
DESCRIPTION:What have we accomplished? What have we learned? What do we still need to do?\nPresented by: Monmouth University\, New Jersey Future\, Union of Concerned Scientists\, New Jersey Recovery Fund \nThere is no cost to attend\, but registration is required. A continental breakfast (7:30-8:30 am) and box lunch (12:30-1:30 pm) will be provided. \nOn Oct. 29\, 2013\, the anniversary of the worst natural disaster ever to hit New Jersey\, we invite you to join us at Monmouth University in W. Long Branch for a day-long conference to address three critical questions about the Sandy recovery process: What have we accomplished? What have we learned? What do we still need to do? \nDistinguished speakers\, including former governors James Florio and Christine Todd Whitman\, will highlight the economic and planning impacts of Sandy and of potential future storms\, and will discuss things New Jersey and its municipalities need to be doing in order to be better prepared for the next severe weather event. You’ll have the opportunity to network with local and state officials\, residents and community groups\, professionals in the fields of land use\, infrastructure and environmental science\, and representatives from federal agencies\, all focused on one thing: how best to rebuild the Garden State after Sandy. \nTentative Agenda \n7:30- 8:30 am: Light breakfast and partner displays in Wilson Hall \n8:30 am: Welcome and Introductions in Pollak Theatre \n9:00 – 9:30 am: Setup for the day: What’s been accomplished\, what’s still to be addressed? \n9:30 – 10:00 am: Morning Keynote \n10:00 – 11:15 am: Session I: Assessing the Risk: An examination of sea-level rise and severe weather events and their economic impacts\, and the importance of incorporating future-looking assessments into long-term decisionmaking \n11:15 am – 12:15 pm: Session II: Planning for the Inevitable: An examination of needs\, tools and opportunities for individual towns and the region as a whole as we plan for a more resilient future \n12:30 – 1:30 pm: Lunch in Wilson Hall \n1:45 – 2:15 pm: Afternoon Keynote in Pollak Theatre \n2:30 – 3:30 pm: Session III: Designing Differently: An overview of infrastructure and community design innovations that can help both urban and shore communities to withstand the next storm \n4:00 pm: Closing remarks: Hon. James Florio\, former governor\, state of New Jersey \n5:00 – 7:30 pm:  Following the conference\, please join us at McLoone’s Pier House in Long Branch for a cocktail reception supporting New Jersey Future’s Sandy rebuilding work.  More details and ticket information. \nConfirmed speakers:\n\nAdm. Thad Allen (USCG\, retired)\, former director of relief and recovery efforts following Hurricane Katrina\nLisa Auermuller\, watershed/outreach coordinator\, Jacques Cousteau Reserve\, Rutgers Institute of Marine and Coastal Sciences\, Tuckerton\, N.J.\nHon. James Florio\, former governor\, state of New Jersey\nChristopher Hager P.E. LEED AP\, principal/vice president\, Langan Engineering\nPatrick Murray\, director\, Monmouth University Polling Institute\, W. Long Branch\, N.J.\nHon. Frank Nolan\, mayor\, borough of Highlands\, N.J.\nBen Strauss\, vice president for climate impacts and director of the program on sea level rise\, Climate Central\, Princeton\, N.J.\nMark Mauriello\, former commissioner\, New Jersey Dept. of Environmental Protection\nHon. Christine Todd Whitman\, former governor\, state of New Jersey\n\nAttendance is free but space is limited\, so registration is required. \nPresented by:\n  \nThe New Jersey Recovery FundThe Union of Concerned Scientists\n            \n  \nConference partners:\nAIA New JerseyAmerican Littoral SocietyAmerican Planning Association-New Jersey ChapterANJECClean Ocean ActionClimate CentralFair Share Housing CenterHousing and Community Development Network of New JerseyNJBIZNew Jersey Association for Floodplain ManagementNew Jersey League of Conservation VotersNY/NJ BaykeeperRegional Plan AssociationSustainable JerseyUrban Land Institute – Philadelphia ChapterUrban Land Institute – Northern NJ Chapter
URL:https://njplanning.org/event/sandy-one-year-later-looking-to-the-future/
LOCATION:Monmouth University\, Long Branch\, NJ\, United States
CATEGORIES:Events
END:VEVENT
BEGIN:VEVENT
DTSTART;TZID=America/New_York:20130806T100000
DTEND;TZID=America/New_York:20130806T123000
DTSTAMP:20260423T075800
CREATED:20130726T184247Z
LAST-MODIFIED:20130726T184331Z
UID:10001192-1375783200-1375792200@njplanning.org
SUMMARY:Coastal Community Listening Sessions (Long Branch\, NJ)
DESCRIPTION:
URL:https://njplanning.org/event/coastal-community-listening-sessions-long-branch-nj/
LOCATION:Monmouth University\, Long Branch\, NJ\, United States
CATEGORIES:Events
END:VEVENT
END:VCALENDAR