BEGIN:VCALENDAR
VERSION:2.0
PRODID:-//American Planning Association New Jersey Chapter - ECPv6.15.13//NONSGML v1.0//EN
CALSCALE:GREGORIAN
METHOD:PUBLISH
X-ORIGINAL-URL:https://njplanning.org
X-WR-CALDESC:Events for American Planning Association New Jersey Chapter
REFRESH-INTERVAL;VALUE=DURATION:PT1H
X-Robots-Tag:noindex
X-PUBLISHED-TTL:PT1H
BEGIN:VTIMEZONE
TZID:America/New_York
BEGIN:DAYLIGHT
TZOFFSETFROM:-0500
TZOFFSETTO:-0400
TZNAME:EDT
DTSTART:20120311T070000
END:DAYLIGHT
BEGIN:STANDARD
TZOFFSETFROM:-0400
TZOFFSETTO:-0500
TZNAME:EST
DTSTART:20121104T060000
END:STANDARD
BEGIN:DAYLIGHT
TZOFFSETFROM:-0500
TZOFFSETTO:-0400
TZNAME:EDT
DTSTART:20130310T070000
END:DAYLIGHT
BEGIN:STANDARD
TZOFFSETFROM:-0400
TZOFFSETTO:-0500
TZNAME:EST
DTSTART:20131103T060000
END:STANDARD
BEGIN:DAYLIGHT
TZOFFSETFROM:-0500
TZOFFSETTO:-0400
TZNAME:EDT
DTSTART:20140309T070000
END:DAYLIGHT
BEGIN:STANDARD
TZOFFSETFROM:-0400
TZOFFSETTO:-0500
TZNAME:EST
DTSTART:20141102T060000
END:STANDARD
BEGIN:DAYLIGHT
TZOFFSETFROM:-0500
TZOFFSETTO:-0400
TZNAME:EDT
DTSTART:20150308T070000
END:DAYLIGHT
BEGIN:STANDARD
TZOFFSETFROM:-0400
TZOFFSETTO:-0500
TZNAME:EST
DTSTART:20151101T060000
END:STANDARD
BEGIN:DAYLIGHT
TZOFFSETFROM:-0500
TZOFFSETTO:-0400
TZNAME:EDT
DTSTART:20160313T070000
END:DAYLIGHT
BEGIN:STANDARD
TZOFFSETFROM:-0400
TZOFFSETTO:-0500
TZNAME:EST
DTSTART:20161106T060000
END:STANDARD
BEGIN:DAYLIGHT
TZOFFSETFROM:-0500
TZOFFSETTO:-0400
TZNAME:EDT
DTSTART:20170312T070000
END:DAYLIGHT
BEGIN:STANDARD
TZOFFSETFROM:-0400
TZOFFSETTO:-0500
TZNAME:EST
DTSTART:20171105T060000
END:STANDARD
BEGIN:DAYLIGHT
TZOFFSETFROM:-0500
TZOFFSETTO:-0400
TZNAME:EDT
DTSTART:20180311T070000
END:DAYLIGHT
BEGIN:STANDARD
TZOFFSETFROM:-0400
TZOFFSETTO:-0500
TZNAME:EST
DTSTART:20181104T060000
END:STANDARD
BEGIN:DAYLIGHT
TZOFFSETFROM:-0500
TZOFFSETTO:-0400
TZNAME:EDT
DTSTART:20190310T070000
END:DAYLIGHT
BEGIN:STANDARD
TZOFFSETFROM:-0400
TZOFFSETTO:-0500
TZNAME:EST
DTSTART:20191103T060000
END:STANDARD
BEGIN:DAYLIGHT
TZOFFSETFROM:-0500
TZOFFSETTO:-0400
TZNAME:EDT
DTSTART:20200308T070000
END:DAYLIGHT
BEGIN:STANDARD
TZOFFSETFROM:-0400
TZOFFSETTO:-0500
TZNAME:EST
DTSTART:20201101T060000
END:STANDARD
END:VTIMEZONE
BEGIN:VEVENT
DTSTART;TZID=America/New_York:20190619T093000
DTEND;TZID=America/New_York:20190619T150000
DTSTAMP:20260422T060946
CREATED:20190528T165445Z
LAST-MODIFIED:20190629T153313Z
UID:10001478-1560936600-1560956400@njplanning.org
SUMMARY:Implementing Fair Share Plans - Getting Affordable Housing Built
DESCRIPTION:
URL:https://njplanning.org/event/implementing-fair-share-plans-getting-affordable-housing-built/
LOCATION:Metro Top Plaza\, 111 Wood Avenue\, South Iselin\, NJ\, 08830\, United States
CATEGORIES:Events
END:VEVENT
BEGIN:VEVENT
DTSTART;TZID=America/New_York:20180620T090000
DTEND;TZID=America/New_York:20180620T140000
DTSTAMP:20260422T060946
CREATED:20180321T171843Z
LAST-MODIFIED:20180712T132758Z
UID:10001276-1529485200-1529503200@njplanning.org
SUMMARY:Keeping Affordable Housing Alive and Well in NJ
DESCRIPTION:
URL:https://njplanning.org/event/keeping-affordable-housing-alive-and-well-in-nj/
LOCATION:Metro Top Plaza\, 111 Wood Avenue\, South Iselin\, NJ\, 08830\, United States
CATEGORIES:Events
END:VEVENT
BEGIN:VEVENT
DTSTART;TZID=America/New_York:20170628T093000
DTEND;TZID=America/New_York:20170628T140000
DTSTAMP:20260422T060946
CREATED:20170608T195754Z
LAST-MODIFIED:20170817T135902Z
UID:10001271-1498642200-1498658400@njplanning.org
SUMMARY:Affordable Housing Therapy Session: A Discussion of Effective Affordable Housing Administration
DESCRIPTION:The Affordable Housing Professionals of New Jersey\, in collaboration with the New Jersey Chapter of the American Planning Association\, is hosting a timely symposium on effective affordable housing administration at the Metro Top Plaza in South Iselin\, NJ on June 28th.  The symposium will feature a panel discussion with experts on topics including: \n\nThe status and implications of municipal affordable housing obligations court cases;\nApplying 2017 income limits and rent increases;\nChanges in funding for Supportive Housing\nAdministrative Agent challenges in qualifying tenants\nPros and cons of 100% Affordable Development\nHow to find Emergency Housing\nHow to handle undocumented applicants\nBest practices in serving very low income applicants\nHow and when to extend expiring use controls\n\nAmerican Planning Association AICP Certification Maintenance credits and Supreme Court of NJ Board on Continuing Legal Education credits are both pending. \nRegistration fees: $65/AHPNJ or NJAPA members\, $100/non-AHPNJ and non-NJAPA members.  Registration fee includes light breakfast and hot lunch. \nRegistration policies: Advance registration is required\, no walk-ins.  No refunds. \nAgenda for June 28th: \n\n9:30am-10:00am:     Sign-in\, Networking & Continental Breakfast\n10:00am-12:00pm:   Panel discussion on affordable housing administration best practices\n12:00pm-12:30pm:   Buffet and Lunch Discussion\n12:30pm-2:00pm:     Afternoon Panel: Group Therapy – Bring your questions\, get suggestions and support from experienced housing professionals\n\nRegister here:  Online registration will apply to all attendees whether paying online\, by check\, or with a purchase order.  Space is limited so register soon! \n\nLocation: Metro Top Plaza\, 111 Wood Ave.\, South Iselin\, NJ\nTime: 9:30am – 2:00pm
URL:https://njplanning.org/event/affordable-housing-therapy-session-a-discussion-of-effective-affordable-housing-administration/
LOCATION:Metro Top Plaza\, 111 Wood Avenue\, South Iselin\, NJ\, 08830\, United States
CATEGORIES:APA-NJ Event,Events
END:VEVENT
BEGIN:VEVENT
DTSTART;TZID=America/New_York:20140617T081500
DTEND;TZID=America/New_York:20140617T154500
DTSTAMP:20260422T060946
CREATED:20140523T124310Z
LAST-MODIFIED:20140701T191122Z
UID:10001294-1402992900-1403019900@njplanning.org
SUMMARY:COAH Round Three Symposium (CM|Pending)
DESCRIPTION:COAH Round Three Continued: What’s in There\, What’s Missing\, and Where Do We Go From Here?\nThe Affordable Housing Professionals of New Jersey in collaboration with the New Jersey Chapter of the American Planning Association is hosting an all-day symposium on the new proposed COAH Third Round Regulations.  The symposium will cover the following topics: \n\nA brief history of COAH: 1999 to the present; \nVarious perspectives on the proposed new rules\, including municipal\, developer\, planning and legal perspectives;\nSpecific issues of concern for practitioners; and\nHow to advocate for changes to the proposed new rules.\n\nExperts in these fields will all be joining us to speak on panels to address this timely topic. \nAmerican Planning Association AICP Certification Maintenance Credits PendingSupreme Court of NJ Board on Continuing Legal Education Credits Pending \n$65 for AHPNJ members$65 for APA-NJ members$100 for AHPNJ and APA-NJ non-members \nAdvance registration required.  No Walk-Ins\, No Refunds. \nPlease fill out the bottom of this form and send a check or P.O. made out to AHPNJ to: AHPNJ\, 19 Stonerise Drive\, Lawrenceville\, NJ 08648 by June 9. Or you may make a payment by credit card through PayPal at: http://ahpnj.org/contact/registration. \nAny questions\, contact Karen Cerra\, AHPNJ Administrator at admin@ahpnj.org or 609-310-6070.  Space is limited.  A light breakfast and hot buffet lunch is included in cost. \nPlease click here for the agenda.
URL:https://njplanning.org/event/coah-round-three-symposium-cmpending/
LOCATION:Metro Top Plaza\, 111 Wood Avenue\, South Iselin\, NJ\, 08830\, United States
CATEGORIES:APA-NJ Event,Events
END:VEVENT
BEGIN:VEVENT
DTSTART;TZID=America/New_York:20130618T081500
DTEND;TZID=America/New_York:20130618T154500
DTSTAMP:20260422T060946
CREATED:20130607T221003Z
LAST-MODIFIED:20130607T221018Z
UID:10001050-1371543300-1371570300@njplanning.org
SUMMARY:Symposium on Expiring Affordability Controls (CM | 5.0)
DESCRIPTION:
URL:https://njplanning.org/event/symposium-on-expiring-affordability-controls-cm-5-0/
LOCATION:Metro Top Plaza\, 111 Wood Avenue\, South Iselin\, NJ\, 08830\, United States
CATEGORIES:Events
END:VEVENT
END:VCALENDAR