BEGIN:VCALENDAR
VERSION:2.0
PRODID:-//American Planning Association New Jersey Chapter - ECPv6.15.13//NONSGML v1.0//EN
CALSCALE:GREGORIAN
METHOD:PUBLISH
X-ORIGINAL-URL:https://njplanning.org
X-WR-CALDESC:Events for American Planning Association New Jersey Chapter
REFRESH-INTERVAL;VALUE=DURATION:PT1H
X-Robots-Tag:noindex
X-PUBLISHED-TTL:PT1H
BEGIN:VTIMEZONE
TZID:America/New_York
BEGIN:DAYLIGHT
TZOFFSETFROM:-0500
TZOFFSETTO:-0400
TZNAME:EDT
DTSTART:20100314T070000
END:DAYLIGHT
BEGIN:STANDARD
TZOFFSETFROM:-0400
TZOFFSETTO:-0500
TZNAME:EST
DTSTART:20101107T060000
END:STANDARD
BEGIN:DAYLIGHT
TZOFFSETFROM:-0500
TZOFFSETTO:-0400
TZNAME:EDT
DTSTART:20110313T070000
END:DAYLIGHT
BEGIN:STANDARD
TZOFFSETFROM:-0400
TZOFFSETTO:-0500
TZNAME:EST
DTSTART:20111106T060000
END:STANDARD
BEGIN:DAYLIGHT
TZOFFSETFROM:-0500
TZOFFSETTO:-0400
TZNAME:EDT
DTSTART:20120311T070000
END:DAYLIGHT
BEGIN:STANDARD
TZOFFSETFROM:-0400
TZOFFSETTO:-0500
TZNAME:EST
DTSTART:20121104T060000
END:STANDARD
END:VTIMEZONE
BEGIN:VEVENT
DTSTART;TZID=America/New_York:20110614T090000
DTEND;TZID=America/New_York:20110614T153000
DTSTAMP:20260424T125631
CREATED:20110823T013746Z
LAST-MODIFIED:20110823T013746Z
UID:10000867-1308042000-1308065400@njplanning.org
SUMMARY:Stone Soup: A Recipe for a Healthy Community
DESCRIPTION:Where people live\, learn\, work\, and play has a tremendous impact on their health. Planners are a key ingredient in creating a healthy community. \nThis day-long conference includes keynote speakers from the Robert Wood Johnson Foundation. \nRSVP by June 6 – Space is limited. Register by phone or email: \n•Call the NJDHSS Office of Local Public Health at 609-292-4993. \nAsk to register for “Stone Soup.” \n• You can also register by emailing olph@njlincs.net with your name\, title\, organization and phone number. Someone will call you to confirm.
URL:https://njplanning.org/event/stone-soup-a-recipe-for-a-healthy-community/
LOCATION:Mercer County College Conference Center\, 1200 Old Trenton Road\, West Windsor\, NJ\, 08550\, United States
CATEGORIES:Events
END:VEVENT
END:VCALENDAR