BEGIN:VCALENDAR
VERSION:2.0
PRODID:-//American Planning Association New Jersey Chapter - ECPv6.15.13//NONSGML v1.0//EN
CALSCALE:GREGORIAN
METHOD:PUBLISH
X-ORIGINAL-URL:https://njplanning.org
X-WR-CALDESC:Events for American Planning Association New Jersey Chapter
REFRESH-INTERVAL;VALUE=DURATION:PT1H
X-Robots-Tag:noindex
X-PUBLISHED-TTL:PT1H
BEGIN:VTIMEZONE
TZID:America/New_York
BEGIN:DAYLIGHT
TZOFFSETFROM:-0500
TZOFFSETTO:-0400
TZNAME:EDT
DTSTART:20150308T070000
END:DAYLIGHT
BEGIN:STANDARD
TZOFFSETFROM:-0400
TZOFFSETTO:-0500
TZNAME:EST
DTSTART:20151101T060000
END:STANDARD
BEGIN:DAYLIGHT
TZOFFSETFROM:-0500
TZOFFSETTO:-0400
TZNAME:EDT
DTSTART:20160313T070000
END:DAYLIGHT
BEGIN:STANDARD
TZOFFSETFROM:-0400
TZOFFSETTO:-0500
TZNAME:EST
DTSTART:20161106T060000
END:STANDARD
BEGIN:DAYLIGHT
TZOFFSETFROM:-0500
TZOFFSETTO:-0400
TZNAME:EDT
DTSTART:20170312T070000
END:DAYLIGHT
BEGIN:STANDARD
TZOFFSETFROM:-0400
TZOFFSETTO:-0500
TZNAME:EST
DTSTART:20171105T060000
END:STANDARD
END:VTIMEZONE
BEGIN:VEVENT
DTSTART;TZID=America/New_York:20160930T090000
DTEND;TZID=America/New_York:20160930T120000
DTSTAMP:20260423T045658
CREATED:20160921T184643Z
LAST-MODIFIED:20160921T184643Z
UID:10001435-1475226000-1475236800@njplanning.org
SUMMARY:Bridging the Gap: An Introduction to Residential Real Estate Development for Municipalities
DESCRIPTION:  \nDate: Friday\, September 30\, 2016\nPlace: Livingston Senior/Recreation Center\n204 Hillside Avenue\nLivingston\, NJ 07039\nTime: 9 am to 12 pm\, with check-in from 8:30 to 9:00 am. \nA continental breakfast will be provided. \nThis seminar will focus on real estate finance and provide techniques you can use to make the municipal review process more productive. The speakers will explain how zoning and other factors impact the development decision-making process. It has been approved by Rutgers-Center for Government Services for 3 CE credits toward renewal of your certificate. \nThe session is open to NJAPZA members at a cost of $50 per person and non-members at a cost of $75 per person. \nYou may reserve a seat by sending a reservation request today. Upon receipt of your request\, NJAPZA will acknowledge your reservation via email\, but an official confirmation will be sent only after your registration payment has been received. You will not be eligible to attend unless payment has been received by September 28 and you receive an official confirmation. \nPayments in the form of checks or purchase orders should be made payable to NJAPZA and sent to: \nBonnie Imposimato\, Treasurer\nNJAPZA\n17 Desai Court\nFreehold\, NJ 077 \nTo reserve a spot\, CLICK HERE. \nQuestions? Call Jackie Zelinka\, Executive Director\, at 732-540-3517.
URL:https://njplanning.org/event/bridging-the-gap-an-introduction-to-residential-real-estate-development-for-municipalities/
LOCATION:Livingston Senior/Recreation Center\, 204 Hillside Avenue\, Livingston\, NJ\, 07039\, United States
CATEGORIES:Events
END:VEVENT
END:VCALENDAR