BEGIN:VCALENDAR
VERSION:2.0
PRODID:-//American Planning Association New Jersey Chapter - ECPv6.15.13//NONSGML v1.0//EN
CALSCALE:GREGORIAN
METHOD:PUBLISH
X-WR-CALNAME:American Planning Association New Jersey Chapter
X-ORIGINAL-URL:https://njplanning.org
X-WR-CALDESC:Events for American Planning Association New Jersey Chapter
REFRESH-INTERVAL;VALUE=DURATION:PT1H
X-Robots-Tag:noindex
X-PUBLISHED-TTL:PT1H
BEGIN:VTIMEZONE
TZID:America/New_York
BEGIN:DAYLIGHT
TZOFFSETFROM:-0500
TZOFFSETTO:-0400
TZNAME:EDT
DTSTART:20100314T070000
END:DAYLIGHT
BEGIN:STANDARD
TZOFFSETFROM:-0400
TZOFFSETTO:-0500
TZNAME:EST
DTSTART:20101107T060000
END:STANDARD
BEGIN:DAYLIGHT
TZOFFSETFROM:-0500
TZOFFSETTO:-0400
TZNAME:EDT
DTSTART:20110313T070000
END:DAYLIGHT
BEGIN:STANDARD
TZOFFSETFROM:-0400
TZOFFSETTO:-0500
TZNAME:EST
DTSTART:20111106T060000
END:STANDARD
BEGIN:DAYLIGHT
TZOFFSETFROM:-0500
TZOFFSETTO:-0400
TZNAME:EDT
DTSTART:20120311T070000
END:DAYLIGHT
BEGIN:STANDARD
TZOFFSETFROM:-0400
TZOFFSETTO:-0500
TZNAME:EST
DTSTART:20121104T060000
END:STANDARD
END:VTIMEZONE
BEGIN:VEVENT
DTSTART;TZID=America/New_York:20111122T150000
DTEND;TZID=America/New_York:20111122T183000
DTSTAMP:20260425T071013
CREATED:20111006T163219Z
LAST-MODIFIED:20111006T163219Z
UID:10000965-1321974000-1321986600@njplanning.org
SUMMARY:American Dream Meadowlands: Hard- Hat Tour & Networking Reception (CM | 1.5)
DESCRIPTION:Please join us for a tour of the American Dream Meadowlands. \nFew projects in the region have drawn more attention and anticipation than American Dream Meadowlands. \nThe Urban Land Institute of Northern New Jersey and Langan Engineering and Environmental Services invite you to a special hard hat tour of the most talked about mixed use development on the East Coast. \nExecutives from Triple Five\, the new owners of American Dream\, will lead the tour\, which concludes with a networking reception at the Winner’s Club at the Izod Center. \nSpace is limited so Register Now.See website for admission pricing…http://nnj.uli.org  \nWe wish to extend a very special thank you to our Event Sponsors\, Langan Engineering & Environmental Services\, without whom\, this event would not be possible
URL:https://njplanning.org/event/american-dream-meadowlands-hard-hat-tour-networking-reception-cm-1-5/
LOCATION:IZOD Center/ Winner’s Club\, 50 State Route 120\, East Rutherford\, NJ\, 07073\, United States
CATEGORIES:Events
END:VEVENT
END:VCALENDAR