BEGIN:VCALENDAR
VERSION:2.0
PRODID:-//American Planning Association New Jersey Chapter - ECPv6.15.13//NONSGML v1.0//EN
CALSCALE:GREGORIAN
METHOD:PUBLISH
X-ORIGINAL-URL:https://njplanning.org
X-WR-CALDESC:Events for American Planning Association New Jersey Chapter
REFRESH-INTERVAL;VALUE=DURATION:PT1H
X-Robots-Tag:noindex
X-PUBLISHED-TTL:PT1H
BEGIN:VTIMEZONE
TZID:America/New_York
BEGIN:DAYLIGHT
TZOFFSETFROM:-0500
TZOFFSETTO:-0400
TZNAME:EDT
DTSTART:20130310T070000
END:DAYLIGHT
BEGIN:STANDARD
TZOFFSETFROM:-0400
TZOFFSETTO:-0500
TZNAME:EST
DTSTART:20131103T060000
END:STANDARD
BEGIN:DAYLIGHT
TZOFFSETFROM:-0500
TZOFFSETTO:-0400
TZNAME:EDT
DTSTART:20140309T070000
END:DAYLIGHT
BEGIN:STANDARD
TZOFFSETFROM:-0400
TZOFFSETTO:-0500
TZNAME:EST
DTSTART:20141102T060000
END:STANDARD
BEGIN:DAYLIGHT
TZOFFSETFROM:-0500
TZOFFSETTO:-0400
TZNAME:EDT
DTSTART:20150308T070000
END:DAYLIGHT
BEGIN:STANDARD
TZOFFSETFROM:-0400
TZOFFSETTO:-0500
TZNAME:EST
DTSTART:20151101T060000
END:STANDARD
END:VTIMEZONE
BEGIN:VEVENT
DTSTART;TZID=America/New_York:20141010T080000
DTEND;TZID=America/New_York:20141010T103000
DTSTAMP:20260422T074015
CREATED:20141008T011848Z
LAST-MODIFIED:20141008T011848Z
UID:10001321-1412928000-1412937000@njplanning.org
SUMMARY:Policy Briefing: The Future of Preservation Funding
DESCRIPTION:Register Now\nThe referendum for a stable source of open space funding barely made it onto the November ballot. Tom Gilbert\, Keep It Green will describe what the referendum means and what needs to be done to ensure its passage. Other speakers will discuss the importance of open space for healthy communities. The second panel will discuss surprising incentives for land owners to preserve land as well as measures that can be taken to encourage land owners to preserve land. Issues around the challenges and opportunities in preserving urban lands will also be highlighted.  \nAgenda\n8:00 Registration & Continental Breakfast8:30 Program \n\nTom Gilbert\, Keep It Green – How to Secure a Stable Source of Open Space Funding\nMichael Frank\, Heritage Conservancy – The Value of Open Space and How It Enhances Communities\n\n9:30 Strategies for Stretching Public Dollars \n\nWade Martin\, Morgan Stanley – The Surprising Economics for the Land Owner\nEd Wengryn\, Farm Bureau – Farm Preservation Issues\nDamon Rich\, City of Newark Planning Office – Challenges and Opportunities for Urban Open Space\n\n10:30 Q & A \n*AICP CM 2.5 \n 
URL:https://njplanning.org/event/policy-briefing-the-future-of-preservation-funding/
LOCATION:D&R Greenway Land Trust\, One Preservation Place\, Princeton\, NJ\, 08540\, United States
CATEGORIES:Events
END:VEVENT
END:VCALENDAR