BEGIN:VCALENDAR
VERSION:2.0
PRODID:-//American Planning Association New Jersey Chapter - ECPv6.15.13//NONSGML v1.0//EN
CALSCALE:GREGORIAN
METHOD:PUBLISH
X-ORIGINAL-URL:https://njplanning.org
X-WR-CALDESC:Events for American Planning Association New Jersey Chapter
REFRESH-INTERVAL;VALUE=DURATION:PT1H
X-Robots-Tag:noindex
X-PUBLISHED-TTL:PT1H
BEGIN:VTIMEZONE
TZID:America/New_York
BEGIN:DAYLIGHT
TZOFFSETFROM:-0500
TZOFFSETTO:-0400
TZNAME:EDT
DTSTART:20100314T070000
END:DAYLIGHT
BEGIN:STANDARD
TZOFFSETFROM:-0400
TZOFFSETTO:-0500
TZNAME:EST
DTSTART:20101107T060000
END:STANDARD
BEGIN:DAYLIGHT
TZOFFSETFROM:-0500
TZOFFSETTO:-0400
TZNAME:EDT
DTSTART:20110313T070000
END:DAYLIGHT
BEGIN:STANDARD
TZOFFSETFROM:-0400
TZOFFSETTO:-0500
TZNAME:EST
DTSTART:20111106T060000
END:STANDARD
BEGIN:DAYLIGHT
TZOFFSETFROM:-0500
TZOFFSETTO:-0400
TZNAME:EDT
DTSTART:20120311T070000
END:DAYLIGHT
BEGIN:STANDARD
TZOFFSETFROM:-0400
TZOFFSETTO:-0500
TZNAME:EST
DTSTART:20121104T060000
END:STANDARD
END:VTIMEZONE
BEGIN:VEVENT
DTSTART;TZID=America/New_York:20110611T100000
DTEND;TZID=America/New_York:20110611T160000
DTSTAMP:20260424T111137
CREATED:20110823T013039Z
LAST-MODIFIED:20110823T013039Z
UID:10000864-1307786400-1307808000@njplanning.org
SUMMARY:City of Paterson: Past\, Present & Future (CM | 5.5)
DESCRIPTION:10am-12pm – Meet at the Paterson Museum or other designated spot for the Mill Mile Tour\, led by Richard Polton. \n12pm-1:30pm – Lunch at one of the great Mid Eastern restaurants in South Paterson with presentation from Andre Sayegh on Paterson neighborhood development. \n2pm-4pm – Tour of Downtown Paterson\, led by Richard Polton\, focusing on the work of Fred Wesley Wentworth\, Paterson’s leading architect.
URL:https://njplanning.org/event/city-of-paterson-past-present-future-cm-5-5/
LOCATION:City of Paterson\, Paterson\, NJ\, United States
CATEGORIES:APA-NJ Event,Events
END:VEVENT
END:VCALENDAR