BEGIN:VCALENDAR
VERSION:2.0
PRODID:-//American Planning Association New Jersey Chapter - ECPv6.15.13//NONSGML v1.0//EN
CALSCALE:GREGORIAN
METHOD:PUBLISH
X-WR-CALNAME:American Planning Association New Jersey Chapter
X-ORIGINAL-URL:https://njplanning.org
X-WR-CALDESC:Events for American Planning Association New Jersey Chapter
REFRESH-INTERVAL;VALUE=DURATION:PT1H
X-Robots-Tag:noindex
X-PUBLISHED-TTL:PT1H
BEGIN:VTIMEZONE
TZID:America/New_York
BEGIN:DAYLIGHT
TZOFFSETFROM:-0500
TZOFFSETTO:-0400
TZNAME:EDT
DTSTART:20130310T070000
END:DAYLIGHT
BEGIN:STANDARD
TZOFFSETFROM:-0400
TZOFFSETTO:-0500
TZNAME:EST
DTSTART:20131103T060000
END:STANDARD
BEGIN:DAYLIGHT
TZOFFSETFROM:-0500
TZOFFSETTO:-0400
TZNAME:EDT
DTSTART:20140309T070000
END:DAYLIGHT
BEGIN:STANDARD
TZOFFSETFROM:-0400
TZOFFSETTO:-0500
TZNAME:EST
DTSTART:20141102T060000
END:STANDARD
BEGIN:DAYLIGHT
TZOFFSETFROM:-0500
TZOFFSETTO:-0400
TZNAME:EDT
DTSTART:20150308T070000
END:DAYLIGHT
BEGIN:STANDARD
TZOFFSETFROM:-0400
TZOFFSETTO:-0500
TZNAME:EST
DTSTART:20151101T060000
END:STANDARD
END:VTIMEZONE
BEGIN:VEVENT
DTSTART;TZID=America/New_York:20141008T090000
DTEND;TZID=America/New_York:20141008T150000
DTSTAMP:20260422T103556
CREATED:20141008T020042Z
LAST-MODIFIED:20141008T020042Z
UID:10001330-1412758800-1412780400@njplanning.org
SUMMARY:Creative Placemaking Planning for Real Estate Professionals Workshop
DESCRIPTION:Creative Placemaking Planning for Real Estate Professionals is a one-day workshop which will include a broad overview of what Creative Placemaking is and why this approach is so effective for sustainable development towards increasing community vibrancy\, social equity and economic growth. Professional will learn specific ways to utilize their skill sets and rich resources in order to exert influence in community planning. Real estate professionals will examine ways to analyze neighborhood\, municipality\, regional and national data to inform Creative Placemaking community planning and apply their expertise in marketing to the Creative Placemaking process. \nhttp://CenterforCreativePlacemaking.com
URL:https://njplanning.org/event/creative-placemaking-planning-for-real-estate-professionals-workshop/
LOCATION:Bloomfield College Library Room 205\, 80-86 Oakland Avenue\, Bloomfield\, NJ\, 07003\, United States
CATEGORIES:Events
END:VEVENT
END:VCALENDAR