BEGIN:VCALENDAR
VERSION:2.0
PRODID:-//American Planning Association New Jersey Chapter - ECPv6.15.13//NONSGML v1.0//EN
CALSCALE:GREGORIAN
METHOD:PUBLISH
X-ORIGINAL-URL:https://njplanning.org
X-WR-CALDESC:Events for American Planning Association New Jersey Chapter
REFRESH-INTERVAL;VALUE=DURATION:PT1H
X-Robots-Tag:noindex
X-PUBLISHED-TTL:PT1H
BEGIN:VTIMEZONE
TZID:America/New_York
BEGIN:DAYLIGHT
TZOFFSETFROM:-0500
TZOFFSETTO:-0400
TZNAME:EDT
DTSTART:20140309T070000
END:DAYLIGHT
BEGIN:STANDARD
TZOFFSETFROM:-0400
TZOFFSETTO:-0500
TZNAME:EST
DTSTART:20141102T060000
END:STANDARD
BEGIN:DAYLIGHT
TZOFFSETFROM:-0500
TZOFFSETTO:-0400
TZNAME:EDT
DTSTART:20150308T070000
END:DAYLIGHT
BEGIN:STANDARD
TZOFFSETFROM:-0400
TZOFFSETTO:-0500
TZNAME:EST
DTSTART:20151101T060000
END:STANDARD
BEGIN:DAYLIGHT
TZOFFSETFROM:-0500
TZOFFSETTO:-0400
TZNAME:EDT
DTSTART:20160313T070000
END:DAYLIGHT
BEGIN:STANDARD
TZOFFSETFROM:-0400
TZOFFSETTO:-0500
TZNAME:EST
DTSTART:20161106T060000
END:STANDARD
END:VTIMEZONE
BEGIN:VEVENT
DTSTART;VALUE=DATE:20150901
DTEND;VALUE=DATE:20150904
DTSTAMP:20260424T061811
CREATED:20150813T174432Z
LAST-MODIFIED:20150817T174847Z
UID:10001378-1441065600-1441324799@njplanning.org
SUMMARY:GIS in Transit Conference
DESCRIPTION:REGISTER NOW\nManaging data to drive decision making has never been more important. As large data systems are capturing significant performance\, operational and planning data in the transit industry. These data can improve decision making\, service evaluation\, customer satisfaction\, operational efficiency and overall system performance. At the core of many of these data are spatial elements\, that describe the location of relevant transit data. Transit boardings\, customer location\, activity centers\, assets and transit service. Geographic Information Systems (GIS) provides a unique platform for organizing\, evaluating and communicating data; transforming data into information. This conference will bring experts from around the country on how GIS is being used everyday to improve transit systems. The conference will provide a breadth of GIS experiences to showcase how agencies of all sizes and budgets are managing its GIS data and improving transit service and ultimately customer service.
URL:https://njplanning.org/event/gis-in-transit-conference/
LOCATION:Hamilton Crowne Plaza\, 1001 14th St NW \, Washington\, DC\, 20005\, United States
CATEGORIES:Events
END:VEVENT
END:VCALENDAR