BEGIN:VCALENDAR
VERSION:2.0
PRODID:-//American Planning Association New Jersey Chapter - ECPv6.15.13//NONSGML v1.0//EN
CALSCALE:GREGORIAN
METHOD:PUBLISH
X-WR-CALNAME:American Planning Association New Jersey Chapter
X-ORIGINAL-URL:https://njplanning.org
X-WR-CALDESC:Events for American Planning Association New Jersey Chapter
REFRESH-INTERVAL;VALUE=DURATION:PT1H
X-Robots-Tag:noindex
X-PUBLISHED-TTL:PT1H
BEGIN:VTIMEZONE
TZID:America/New_York
BEGIN:DAYLIGHT
TZOFFSETFROM:-0500
TZOFFSETTO:-0400
TZNAME:EDT
DTSTART:20140309T070000
END:DAYLIGHT
BEGIN:STANDARD
TZOFFSETFROM:-0400
TZOFFSETTO:-0500
TZNAME:EST
DTSTART:20141102T060000
END:STANDARD
BEGIN:DAYLIGHT
TZOFFSETFROM:-0500
TZOFFSETTO:-0400
TZNAME:EDT
DTSTART:20150308T070000
END:DAYLIGHT
BEGIN:STANDARD
TZOFFSETFROM:-0400
TZOFFSETTO:-0500
TZNAME:EST
DTSTART:20151101T060000
END:STANDARD
BEGIN:DAYLIGHT
TZOFFSETFROM:-0500
TZOFFSETTO:-0400
TZNAME:EDT
DTSTART:20160313T070000
END:DAYLIGHT
BEGIN:STANDARD
TZOFFSETFROM:-0400
TZOFFSETTO:-0500
TZNAME:EST
DTSTART:20161106T060000
END:STANDARD
END:VTIMEZONE
BEGIN:VEVENT
DTSTART;TZID=America/New_York:20151210T090000
DTEND;TZID=America/New_York:20151210T120000
DTSTAMP:20260422T122738
CREATED:20151111T205920Z
LAST-MODIFIED:20151111T205920Z
UID:10001396-1449738000-1449748800@njplanning.org
SUMMARY:Creating a Vision for Station Areas in Urban Essex County's Urban Transit Corridor
DESCRIPTION:
URL:https://njplanning.org/event/creating-a-vision-for-station-areas-in-urban-essex-countys-urban-transit-corridor/
LOCATION:Seton Hall University School of Law\, 1109 Raymond Boulevard\, Newark\, NJ\, 07102\, United States
CATEGORIES:Events
END:VEVENT
BEGIN:VEVENT
DTSTART;TZID=America/New_York:20150625T100000
DTEND;TZID=America/New_York:20150625T120000
DTSTAMP:20260422T122738
CREATED:20150520T165545Z
LAST-MODIFIED:20150604T122553Z
UID:10001361-1435226400-1435233600@njplanning.org
SUMMARY:Creating Great Places in Essex County's Urban Transit Corridor
DESCRIPTION:
URL:https://njplanning.org/event/creating-great-places-in-essex-countys-urban-transit-corridor/
LOCATION:NJTPA\, One Newark Center\, 17th Floor\, Newark\, NJ\, United States
CATEGORIES:Events
END:VEVENT
END:VCALENDAR