BEGIN:VCALENDAR
VERSION:2.0
PRODID:-//American Planning Association New Jersey Chapter - ECPv6.15.13//NONSGML v1.0//EN
CALSCALE:GREGORIAN
METHOD:PUBLISH
X-ORIGINAL-URL:https://njplanning.org
X-WR-CALDESC:Events for American Planning Association New Jersey Chapter
REFRESH-INTERVAL;VALUE=DURATION:PT1H
X-Robots-Tag:noindex
X-PUBLISHED-TTL:PT1H
BEGIN:VTIMEZONE
TZID:America/New_York
BEGIN:DAYLIGHT
TZOFFSETFROM:-0500
TZOFFSETTO:-0400
TZNAME:EDT
DTSTART:20110313T070000
END:DAYLIGHT
BEGIN:STANDARD
TZOFFSETFROM:-0400
TZOFFSETTO:-0500
TZNAME:EST
DTSTART:20111106T060000
END:STANDARD
BEGIN:DAYLIGHT
TZOFFSETFROM:-0500
TZOFFSETTO:-0400
TZNAME:EDT
DTSTART:20120311T070000
END:DAYLIGHT
BEGIN:STANDARD
TZOFFSETFROM:-0400
TZOFFSETTO:-0500
TZNAME:EST
DTSTART:20121104T060000
END:STANDARD
BEGIN:DAYLIGHT
TZOFFSETFROM:-0500
TZOFFSETTO:-0400
TZNAME:EDT
DTSTART:20130310T070000
END:DAYLIGHT
BEGIN:STANDARD
TZOFFSETFROM:-0400
TZOFFSETTO:-0500
TZNAME:EST
DTSTART:20131103T060000
END:STANDARD
BEGIN:DAYLIGHT
TZOFFSETFROM:-0500
TZOFFSETTO:-0400
TZNAME:EDT
DTSTART:20140309T070000
END:DAYLIGHT
BEGIN:STANDARD
TZOFFSETFROM:-0400
TZOFFSETTO:-0500
TZNAME:EST
DTSTART:20141102T060000
END:STANDARD
BEGIN:DAYLIGHT
TZOFFSETFROM:-0500
TZOFFSETTO:-0400
TZNAME:EDT
DTSTART:20150308T070000
END:DAYLIGHT
BEGIN:STANDARD
TZOFFSETFROM:-0400
TZOFFSETTO:-0500
TZNAME:EST
DTSTART:20151101T060000
END:STANDARD
BEGIN:DAYLIGHT
TZOFFSETFROM:-0500
TZOFFSETTO:-0400
TZNAME:EDT
DTSTART:20160313T070000
END:DAYLIGHT
BEGIN:STANDARD
TZOFFSETFROM:-0400
TZOFFSETTO:-0500
TZNAME:EST
DTSTART:20161106T060000
END:STANDARD
BEGIN:DAYLIGHT
TZOFFSETFROM:-0500
TZOFFSETTO:-0400
TZNAME:EDT
DTSTART:20170312T070000
END:DAYLIGHT
BEGIN:STANDARD
TZOFFSETFROM:-0400
TZOFFSETTO:-0500
TZNAME:EST
DTSTART:20171105T060000
END:STANDARD
BEGIN:DAYLIGHT
TZOFFSETFROM:-0500
TZOFFSETTO:-0400
TZNAME:EDT
DTSTART:20180311T070000
END:DAYLIGHT
BEGIN:STANDARD
TZOFFSETFROM:-0400
TZOFFSETTO:-0500
TZNAME:EST
DTSTART:20181104T060000
END:STANDARD
BEGIN:DAYLIGHT
TZOFFSETFROM:-0500
TZOFFSETTO:-0400
TZNAME:EDT
DTSTART:20190310T070000
END:DAYLIGHT
BEGIN:STANDARD
TZOFFSETFROM:-0400
TZOFFSETTO:-0500
TZNAME:EST
DTSTART:20191103T060000
END:STANDARD
BEGIN:DAYLIGHT
TZOFFSETFROM:-0500
TZOFFSETTO:-0400
TZNAME:EDT
DTSTART:20200308T070000
END:DAYLIGHT
BEGIN:STANDARD
TZOFFSETFROM:-0400
TZOFFSETTO:-0500
TZNAME:EST
DTSTART:20201101T060000
END:STANDARD
BEGIN:DAYLIGHT
TZOFFSETFROM:-0500
TZOFFSETTO:-0400
TZNAME:EDT
DTSTART:20210314T070000
END:DAYLIGHT
BEGIN:STANDARD
TZOFFSETFROM:-0400
TZOFFSETTO:-0500
TZNAME:EST
DTSTART:20211107T060000
END:STANDARD
BEGIN:DAYLIGHT
TZOFFSETFROM:-0500
TZOFFSETTO:-0400
TZNAME:EDT
DTSTART:20220313T070000
END:DAYLIGHT
BEGIN:STANDARD
TZOFFSETFROM:-0400
TZOFFSETTO:-0500
TZNAME:EST
DTSTART:20221106T060000
END:STANDARD
BEGIN:DAYLIGHT
TZOFFSETFROM:-0500
TZOFFSETTO:-0400
TZNAME:EDT
DTSTART:20230312T070000
END:DAYLIGHT
BEGIN:STANDARD
TZOFFSETFROM:-0400
TZOFFSETTO:-0500
TZNAME:EST
DTSTART:20231105T060000
END:STANDARD
END:VTIMEZONE
BEGIN:VEVENT
DTSTART;TZID=America/New_York:20220224T123000
DTEND;TZID=America/New_York:20220224T133000
DTSTAMP:20260422T073729
CREATED:20220201T141106Z
LAST-MODIFIED:20220201T141106Z
UID:10001386-1645705800-1645709400@njplanning.org
SUMMARY:What's Next? Recreational Cannabis in the Garden State: Opportunities & Challenges for the Commercial Real Estate Industry
DESCRIPTION:
URL:https://njplanning.org/event/whats-next-recreational-cannabis-in-the-garden-state-opportunities-challenges-for-the-commercial-real-estate-industry/
LOCATION:Online Webcast
CATEGORIES:Events
END:VEVENT
BEGIN:VEVENT
DTSTART;TZID=America/New_York:20140423T080000
DTEND;TZID=America/New_York:20140423T101500
DTSTAMP:20260422T073729
CREATED:20140403T183834Z
LAST-MODIFIED:20140405T184843Z
UID:10001282-1398240000-1398248100@njplanning.org
SUMMARY:Book Talk with the Author Vishaan Chakrabarti (CM|1.5)
DESCRIPTION:Register\nJoin ULI NNJ members and colleagues on Wednesday\, April 23\, 2014 at St. Peter’s University in Jersey City\, as we engage in a profound dialogue and book signing with the author of “A Country of Cities: A Manifesto for Urban America\,” Vishaan Chakrabarti. Mr. Chakrabarti is the director of Columbia University’s Center for Urban Real Estate (CURE) and a partner at SHoP Architects\, \nA Country of Cities: A Manifesto for Urban America has been quoted in the Huffington Post in their list of “13 books you should investigate if you want to know more about why cities and metros matter\, about the magnitude of the challenges that they are taking on\, and about how they can do better. They write\, “Chakrabarti’s beautifully designed manifesto is totally winning\, with excellent infographics\, and lively pop culture references. This the kind of book that reconnects urbanists with the passion that brought them into this field in the first place — and helps others understand why urbanists care so much about what they do.”
URL:https://njplanning.org/event/book-talk-with-the-author-vishaan-chakrabarti-cm1-5/
LOCATION:St. Peter’s University\, 2641 Kennedy Boulevard\, Jersey City\, NJ\, United States
CATEGORIES:Events
END:VEVENT
BEGIN:VEVENT
DTSTART;TZID=America/New_York:20120912T173000
DTEND;TZID=America/New_York:20120912T200059
DTSTAMP:20260422T073729
CREATED:20120831T155115Z
LAST-MODIFIED:20120831T155512Z
UID:10001091-1347471000-1347480059@njplanning.org
SUMMARY:ULI NNJ- YLG Hoboken Infill Development Walking Tour & Networking with Dean Marchetto
DESCRIPTION:
URL:https://njplanning.org/event/uli-nnj-ylg-hoboken-infill-development-walking-tour-networking-with-dean-marchetto/
LOCATION:Pier A Park\, 100 Sinatra Dr.\, Hoboken\, NJ\, United States
CATEGORIES:Events
END:VEVENT
END:VCALENDAR