BEGIN:VCALENDAR
VERSION:2.0
PRODID:-//American Planning Association New Jersey Chapter - ECPv6.15.13//NONSGML v1.0//EN
CALSCALE:GREGORIAN
METHOD:PUBLISH
X-WR-CALNAME:American Planning Association New Jersey Chapter
X-ORIGINAL-URL:https://njplanning.org
X-WR-CALDESC:Events for American Planning Association New Jersey Chapter
REFRESH-INTERVAL;VALUE=DURATION:PT1H
X-Robots-Tag:noindex
X-PUBLISHED-TTL:PT1H
BEGIN:VTIMEZONE
TZID:America/New_York
BEGIN:DAYLIGHT
TZOFFSETFROM:-0500
TZOFFSETTO:-0400
TZNAME:EDT
DTSTART:20130310T070000
END:DAYLIGHT
BEGIN:STANDARD
TZOFFSETFROM:-0400
TZOFFSETTO:-0500
TZNAME:EST
DTSTART:20131103T060000
END:STANDARD
BEGIN:DAYLIGHT
TZOFFSETFROM:-0500
TZOFFSETTO:-0400
TZNAME:EDT
DTSTART:20140309T070000
END:DAYLIGHT
BEGIN:STANDARD
TZOFFSETFROM:-0400
TZOFFSETTO:-0500
TZNAME:EST
DTSTART:20141102T060000
END:STANDARD
BEGIN:DAYLIGHT
TZOFFSETFROM:-0500
TZOFFSETTO:-0400
TZNAME:EDT
DTSTART:20150308T070000
END:DAYLIGHT
BEGIN:STANDARD
TZOFFSETFROM:-0400
TZOFFSETTO:-0500
TZNAME:EST
DTSTART:20151101T060000
END:STANDARD
END:VTIMEZONE
BEGIN:VEVENT
DTSTART;TZID=America/New_York:20141112T010000
DTEND;TZID=America/New_York:20141112T143000
DTSTAMP:20260425T070334
CREATED:20141106T161110Z
LAST-MODIFIED:20141106T161201Z
UID:10001341-1415754000-1415802600@njplanning.org
SUMMARY:Webcast: Environmental Justice: A New Model for Planning in Underserved Communities
DESCRIPTION:Register Now\nWhen EPA created the Office of Environmental Justice\, it required developing new tools for the purpose of engaging and working with the public\, including segments of the public that are underserved. Community planners and other allied professionals may be less familiar with the tools the Office of Environmental Justice has developed overtime to strengthen public involvement; encourage community action for a renewed environment; or advance collaborative environmental problem solving. For this webinar\, expert speakers will explain how environmental justice is a forward-thinking\, sustainable approach\, and they will share why a discussion about environmental justice is important given the renewed focus on social equity and planning among professionals. Speakers will explain how different communities have aligned environmental justice and municipal planning as complementary quality of life goals. Also\, the webinar will elevate tools that can be used by planners to address the needs of diverse communities. \nCM 1.5
URL:https://njplanning.org/event/webcast-environmental-justice-a-new-model-for-planning-in-underserved-communities/
LOCATION:Online Webcast
CATEGORIES:Events
END:VEVENT
END:VCALENDAR