BEGIN:VCALENDAR
VERSION:2.0
PRODID:-//American Planning Association New Jersey Chapter - ECPv6.15.13//NONSGML v1.0//EN
CALSCALE:GREGORIAN
METHOD:PUBLISH
X-ORIGINAL-URL:https://njplanning.org
X-WR-CALDESC:Events for American Planning Association New Jersey Chapter
REFRESH-INTERVAL;VALUE=DURATION:PT1H
X-Robots-Tag:noindex
X-PUBLISHED-TTL:PT1H
BEGIN:VTIMEZONE
TZID:America/New_York
BEGIN:DAYLIGHT
TZOFFSETFROM:-0500
TZOFFSETTO:-0400
TZNAME:EDT
DTSTART:20130310T070000
END:DAYLIGHT
BEGIN:STANDARD
TZOFFSETFROM:-0400
TZOFFSETTO:-0500
TZNAME:EST
DTSTART:20131103T060000
END:STANDARD
BEGIN:DAYLIGHT
TZOFFSETFROM:-0500
TZOFFSETTO:-0400
TZNAME:EDT
DTSTART:20140309T070000
END:DAYLIGHT
BEGIN:STANDARD
TZOFFSETFROM:-0400
TZOFFSETTO:-0500
TZNAME:EST
DTSTART:20141102T060000
END:STANDARD
BEGIN:DAYLIGHT
TZOFFSETFROM:-0500
TZOFFSETTO:-0400
TZNAME:EDT
DTSTART:20150308T070000
END:DAYLIGHT
BEGIN:STANDARD
TZOFFSETFROM:-0400
TZOFFSETTO:-0500
TZNAME:EST
DTSTART:20151101T060000
END:STANDARD
BEGIN:DAYLIGHT
TZOFFSETFROM:-0500
TZOFFSETTO:-0400
TZNAME:EDT
DTSTART:20160313T070000
END:DAYLIGHT
BEGIN:STANDARD
TZOFFSETFROM:-0400
TZOFFSETTO:-0500
TZNAME:EST
DTSTART:20161106T060000
END:STANDARD
BEGIN:DAYLIGHT
TZOFFSETFROM:-0500
TZOFFSETTO:-0400
TZNAME:EDT
DTSTART:20170312T070000
END:DAYLIGHT
BEGIN:STANDARD
TZOFFSETFROM:-0400
TZOFFSETTO:-0500
TZNAME:EST
DTSTART:20171105T060000
END:STANDARD
BEGIN:DAYLIGHT
TZOFFSETFROM:-0500
TZOFFSETTO:-0400
TZNAME:EDT
DTSTART:20180311T070000
END:DAYLIGHT
BEGIN:STANDARD
TZOFFSETFROM:-0400
TZOFFSETTO:-0500
TZNAME:EST
DTSTART:20181104T060000
END:STANDARD
END:VTIMEZONE
BEGIN:VEVENT
DTSTART;TZID=America/New_York:20170310T080000
DTEND;TZID=America/New_York:20170310T170000
DTSTAMP:20260419T142938
CREATED:20170217T185430Z
LAST-MODIFIED:20170217T185632Z
UID:10001440-1489132800-1489165200@njplanning.org
SUMMARY:New Jersey Future Redevelopment Forum
DESCRIPTION:New Jersey Future’s Redevelopment Forum is a daylong conference that brings together more than 500 municipal and state leaders and leading professionals in planning\, development\, law\, transportation\, architecture\, construction\, environmental conservation and historic preservation to share best practices and lessons learned. Tickets are $110 for New Jersey Future members\, municipal employees and non-profits  and $150 for non-members until February 17  (after February 17 tickets are $155 for members and $190 for non-members).  Register Now! Questions: contact Marianne Jann at 609-393-0008\, ext. 101.  
URL:https://njplanning.org/event/new-jersey-future-redevelopment-forum/
LOCATION:Hyatt Regency New Brunswick\, Two Albany Street\, New Brunswick\, NJ\, 08901\, United States
CATEGORIES:Events
END:VEVENT
BEGIN:VEVENT
DTSTART;TZID=America/New_York:20160609T173000
DTEND;TZID=America/New_York:20160609T200000
DTSTAMP:20260419T142938
CREATED:20160504T165406Z
LAST-MODIFIED:20160504T165406Z
UID:10001255-1465493400-1465502400@njplanning.org
SUMMARY:2016 Smart Growth Awards
DESCRIPTION:
URL:https://njplanning.org/event/2016-smart-growth-awards/
END:VEVENT
BEGIN:VEVENT
DTSTART;TZID=America/New_York:20140314T080000
DTEND;TZID=America/New_York:20140314T160000
DTSTAMP:20260419T142938
CREATED:20131218T220110Z
LAST-MODIFIED:20131219T220654Z
UID:10001235-1394784000-1394812800@njplanning.org
SUMMARY:2014 Redevelopment Forum
DESCRIPTION:New Jersey Future’s Redevelopment Forum is a daylong conference that brings together close to 600 municipal and state leaders and leading professionals in planning\, development\, law\, transportation\, architecture\, construction\, environmental conservation and historic preservation to share best practices and lessons learned. Tickets are $95 for New Jersey Future members and $135 for non-members until February 21 (after February 21 tickets are $140 for members and $175 for non-members). \nRegister Now!  \nQuestions: contact Marianne Jann at 609-393-0008\, ext. 101. \n 
URL:https://njplanning.org/event/2014-redevelopment-forum/
LOCATION:Hyatt Regency\, New Brunswick\, NJ\, United States
CATEGORIES:Events
END:VEVENT
END:VCALENDAR