BEGIN:VCALENDAR
VERSION:2.0
PRODID:-//American Planning Association New Jersey Chapter - ECPv6.15.13//NONSGML v1.0//EN
CALSCALE:GREGORIAN
METHOD:PUBLISH
X-WR-CALNAME:American Planning Association New Jersey Chapter
X-ORIGINAL-URL:https://njplanning.org
X-WR-CALDESC:Events for American Planning Association New Jersey Chapter
REFRESH-INTERVAL;VALUE=DURATION:PT1H
X-Robots-Tag:noindex
X-PUBLISHED-TTL:PT1H
BEGIN:VTIMEZONE
TZID:America/New_York
BEGIN:DAYLIGHT
TZOFFSETFROM:-0500
TZOFFSETTO:-0400
TZNAME:EDT
DTSTART:20190310T070000
END:DAYLIGHT
BEGIN:STANDARD
TZOFFSETFROM:-0400
TZOFFSETTO:-0500
TZNAME:EST
DTSTART:20191103T060000
END:STANDARD
BEGIN:DAYLIGHT
TZOFFSETFROM:-0500
TZOFFSETTO:-0400
TZNAME:EDT
DTSTART:20200308T070000
END:DAYLIGHT
BEGIN:STANDARD
TZOFFSETFROM:-0400
TZOFFSETTO:-0500
TZNAME:EST
DTSTART:20201101T060000
END:STANDARD
BEGIN:DAYLIGHT
TZOFFSETFROM:-0500
TZOFFSETTO:-0400
TZNAME:EDT
DTSTART:20210314T070000
END:DAYLIGHT
BEGIN:STANDARD
TZOFFSETFROM:-0400
TZOFFSETTO:-0500
TZNAME:EST
DTSTART:20211107T060000
END:STANDARD
BEGIN:DAYLIGHT
TZOFFSETFROM:-0500
TZOFFSETTO:-0400
TZNAME:EDT
DTSTART:20220313T070000
END:DAYLIGHT
BEGIN:STANDARD
TZOFFSETFROM:-0400
TZOFFSETTO:-0500
TZNAME:EST
DTSTART:20221106T060000
END:STANDARD
END:VTIMEZONE
BEGIN:VEVENT
DTSTART;TZID=America/New_York:20210910T130000
DTEND;TZID=America/New_York:20210910T143000
DTSTAMP:20260422T122604
CREATED:20210909T163729Z
LAST-MODIFIED:20210909T163729Z
UID:10001541-1631278800-1631284200@njplanning.org
SUMMARY:Zoom Towns: Broadband and the Culture of Connection
DESCRIPTION:
URL:https://njplanning.org/event/zoom-towns-broadband-and-the-culture-of-connection/
LOCATION:Online Webcast
CATEGORIES:Events
END:VEVENT
BEGIN:VEVENT
DTSTART;TZID=America/New_York:20200723T130000
DTEND;TZID=America/New_York:20200723T143000
DTSTAMP:20260422T122604
CREATED:20200715T162758Z
LAST-MODIFIED:20200715T162806Z
UID:10001318-1595509200-1595514600@njplanning.org
SUMMARY:Webinar: Ethics for Planners
DESCRIPTION:This session will be an interactive dialogue about ethical principles and guidelines that professional planners face. It will cover the AICP Code of Ethics and will apply the Code to ethics scenarios developed by the AICP Commission and drawing from the speaker’s experiences. The session will satisfy the AICP-CM ethics requirement.
URL:https://njplanning.org/event/webinar-ethics-for-planners/
LOCATION:Online Webcast
CATEGORIES:Events
END:VEVENT
END:VCALENDAR