BEGIN:VCALENDAR
VERSION:2.0
PRODID:-//American Planning Association New Jersey Chapter - ECPv6.15.13//NONSGML v1.0//EN
CALSCALE:GREGORIAN
METHOD:PUBLISH
X-ORIGINAL-URL:https://njplanning.org
X-WR-CALDESC:Events for American Planning Association New Jersey Chapter
REFRESH-INTERVAL;VALUE=DURATION:PT1H
X-Robots-Tag:noindex
X-PUBLISHED-TTL:PT1H
BEGIN:VTIMEZONE
TZID:America/New_York
BEGIN:DAYLIGHT
TZOFFSETFROM:-0500
TZOFFSETTO:-0400
TZNAME:EDT
DTSTART:20110313T070000
END:DAYLIGHT
BEGIN:STANDARD
TZOFFSETFROM:-0400
TZOFFSETTO:-0500
TZNAME:EST
DTSTART:20111106T060000
END:STANDARD
BEGIN:DAYLIGHT
TZOFFSETFROM:-0500
TZOFFSETTO:-0400
TZNAME:EDT
DTSTART:20120311T070000
END:DAYLIGHT
BEGIN:STANDARD
TZOFFSETFROM:-0400
TZOFFSETTO:-0500
TZNAME:EST
DTSTART:20121104T060000
END:STANDARD
BEGIN:DAYLIGHT
TZOFFSETFROM:-0500
TZOFFSETTO:-0400
TZNAME:EDT
DTSTART:20130310T070000
END:DAYLIGHT
BEGIN:STANDARD
TZOFFSETFROM:-0400
TZOFFSETTO:-0500
TZNAME:EST
DTSTART:20131103T060000
END:STANDARD
BEGIN:DAYLIGHT
TZOFFSETFROM:-0500
TZOFFSETTO:-0400
TZNAME:EDT
DTSTART:20140309T070000
END:DAYLIGHT
BEGIN:STANDARD
TZOFFSETFROM:-0400
TZOFFSETTO:-0500
TZNAME:EST
DTSTART:20141102T060000
END:STANDARD
END:VTIMEZONE
BEGIN:VEVENT
DTSTART;TZID=America/New_York:20130726T130000
DTEND;TZID=America/New_York:20130726T143000
DTSTAMP:20260422T074056
CREATED:20130701T185245Z
LAST-MODIFIED:20130701T185646Z
UID:10001053-1374843600-1374849000@njplanning.org
SUMMARY:Functional Classification: So Important That No One Wants to Talk About It (CM | 1.5)
DESCRIPTION:Functional classification is a transportation topic that is often left for engineers to sort out\, but it has a huge impact on urban planning. Anyone involved in urban planning – including community stakeholders – should be part of the dialogue surrounding the function of public streets. Functional classification is a way that transportation professionals group streets according to the type of traffic they serve and the degree of access expected to adjacent land uses. Few transportation issues are as important as functional classification\, and yet it is one of the least understood or debated. Despite the Federal Highway Administration’s advocacy of flexible design standards\, typical practice in the United States has been very rigid\, leading to unintended negative consequences. For new urbanism\, that means streets that require almost highway speeds and lane widths—physical impacts that are contrary to the overall purpose of new urban planning. For example\, in some areas an Urban Principal Arterial might require a minimum 45 MPH design speed and minimum 12-foot wide lanes\, even if the surrounding land uses need more appropriate (i.e. livable\, sustainable) solutions. This webcast will incorporate very specific examples that are typical of public transportation networks throughout the United States. \n Click here to register. 
URL:https://njplanning.org/event/functional-classification-so-important-that-no-one-wants-to-talk-about-it-cm-1-5/
LOCATION:Online Webinar\, United States
CATEGORIES:APA-NJ Event,Events
END:VEVENT
BEGIN:VEVENT
DTSTART;TZID=America/New_York:20120713T130000
DTEND;TZID=America/New_York:20120713T143059
DTSTAMP:20260422T074056
CREATED:20120703T161319Z
LAST-MODIFIED:20120703T163346Z
UID:10001062-1342184400-1342189859@njplanning.org
SUMMARY:Embracing New Urbanism in Your Comprehensive Plan (CM | 1.5)
DESCRIPTION:For some time now\, many planners have struggled to demonstrate to the public how development that embraces new urbanist principles can benefit a community rather than increase traffic\, increase crime\, increase demand on services\, which is a common perception of new urbanism and all of which we as planners know to be typical planning myths. The purpose of this session is to present how many communities are rethinking their long-term development policies that may once have embraced low-density\, suburban development to incorporate more new urbanism principles such as a focus on infill development over greenfield development; a desire to create walkable neighborhoods with access to local businesses; and an understanding that high-density development is not the “plague” on society that some of the public may once have believed. This change in policy direction is often the direct result of a comprehensive planning effort that strives to engage the public in a transparent\, open dialogue with a strong educational component on the benefits of new urbanism. This webcast will look at how a number of communities have succeeded in shifting their development policies to embrace new urbanism through the comprehensive planning process. The intent of this session is to outline how the comprehensive planning process is an ideal setting to introduce\, educate\, or reevaluate the incorporation of new urbanism principles in the future development and redevelopment of a community. Participants should be able to gain further insight on how best to engage and educate the public about new urbanism principles; to be careful in the format of the public participation (e.g.\, not misusing images or graphics to sway support\, utilizing appropriate information and data\, etc.)\, and to consider the various avenues of implementation (e.g.\, form-based code\, development incentives\, PUDs\, etc.). \nClick here to register.
URL:https://njplanning.org/event/embracing-new-urbanism-in-your-comprehensive-plan-cm-1-5/
LOCATION:Online Webinar\, United States
CATEGORIES:APA-NJ Event,Events
END:VEVENT
END:VCALENDAR