BEGIN:VCALENDAR
VERSION:2.0
PRODID:-//American Planning Association New Jersey Chapter - ECPv6.15.13//NONSGML v1.0//EN
CALSCALE:GREGORIAN
METHOD:PUBLISH
X-WR-CALNAME:American Planning Association New Jersey Chapter
X-ORIGINAL-URL:https://njplanning.org
X-WR-CALDESC:Events for American Planning Association New Jersey Chapter
REFRESH-INTERVAL;VALUE=DURATION:PT1H
X-Robots-Tag:noindex
X-PUBLISHED-TTL:PT1H
BEGIN:VTIMEZONE
TZID:America/New_York
BEGIN:DAYLIGHT
TZOFFSETFROM:-0500
TZOFFSETTO:-0400
TZNAME:EDT
DTSTART:20170312T070000
END:DAYLIGHT
BEGIN:STANDARD
TZOFFSETFROM:-0400
TZOFFSETTO:-0500
TZNAME:EST
DTSTART:20171105T060000
END:STANDARD
BEGIN:DAYLIGHT
TZOFFSETFROM:-0500
TZOFFSETTO:-0400
TZNAME:EDT
DTSTART:20180311T070000
END:DAYLIGHT
BEGIN:STANDARD
TZOFFSETFROM:-0400
TZOFFSETTO:-0500
TZNAME:EST
DTSTART:20181104T060000
END:STANDARD
BEGIN:DAYLIGHT
TZOFFSETFROM:-0500
TZOFFSETTO:-0400
TZNAME:EDT
DTSTART:20190310T070000
END:DAYLIGHT
BEGIN:STANDARD
TZOFFSETFROM:-0400
TZOFFSETTO:-0500
TZNAME:EST
DTSTART:20191103T060000
END:STANDARD
BEGIN:DAYLIGHT
TZOFFSETFROM:-0500
TZOFFSETTO:-0400
TZNAME:EDT
DTSTART:20200308T070000
END:DAYLIGHT
BEGIN:STANDARD
TZOFFSETFROM:-0400
TZOFFSETTO:-0500
TZNAME:EST
DTSTART:20201101T060000
END:STANDARD
BEGIN:DAYLIGHT
TZOFFSETFROM:-0500
TZOFFSETTO:-0400
TZNAME:EDT
DTSTART:20210314T070000
END:DAYLIGHT
BEGIN:STANDARD
TZOFFSETFROM:-0400
TZOFFSETTO:-0500
TZNAME:EST
DTSTART:20211107T060000
END:STANDARD
BEGIN:DAYLIGHT
TZOFFSETFROM:-0500
TZOFFSETTO:-0400
TZNAME:EDT
DTSTART:20220313T070000
END:DAYLIGHT
BEGIN:STANDARD
TZOFFSETFROM:-0400
TZOFFSETTO:-0500
TZNAME:EST
DTSTART:20221106T060000
END:STANDARD
BEGIN:DAYLIGHT
TZOFFSETFROM:-0500
TZOFFSETTO:-0400
TZNAME:EDT
DTSTART:20230312T070000
END:DAYLIGHT
BEGIN:STANDARD
TZOFFSETFROM:-0400
TZOFFSETTO:-0500
TZNAME:EST
DTSTART:20231105T060000
END:STANDARD
BEGIN:DAYLIGHT
TZOFFSETFROM:-0500
TZOFFSETTO:-0400
TZNAME:EDT
DTSTART:20240310T070000
END:DAYLIGHT
BEGIN:STANDARD
TZOFFSETFROM:-0400
TZOFFSETTO:-0500
TZNAME:EST
DTSTART:20241103T060000
END:STANDARD
END:VTIMEZONE
BEGIN:VEVENT
DTSTART;TZID=America/New_York:20231214T180000
DTEND;TZID=America/New_York:20231214T203000
DTSTAMP:20260422T063240
CREATED:20231204T184016Z
LAST-MODIFIED:20231204T184016Z
UID:10001612-1702576800-1702585800@njplanning.org
SUMMARY:2023 Planning Awards Reception
DESCRIPTION:
URL:https://njplanning.org/event/2023-planning-awards-reception/
LOCATION:South Orange Performing Arts Center\, 1 SOPAC Way\, South Orange\, NJ\, 07079\, United States
CATEGORIES:APA-NJ Event,Events
ORGANIZER;CN="APA New Jersey":MAILTO:office@njplanning.org
END:VEVENT
BEGIN:VEVENT
DTSTART;TZID=America/New_York:20221022T083000
DTEND;TZID=America/New_York:20221022T160000
DTSTAMP:20260422T063240
CREATED:20220909T142252Z
LAST-MODIFIED:20221004T162443Z
UID:10001573-1666427400-1666454400@njplanning.org
SUMMARY:Fall 2022 PP Exam Prep Course
DESCRIPTION:
URL:https://njplanning.org/event/fall-2022-pp-exam-prep-course/
LOCATION:Online Webcast
CATEGORIES:APA-NJ Event,Events
ORGANIZER;CN="APA New Jersey":MAILTO:office@njplanning.org
END:VEVENT
BEGIN:VEVENT
DTSTART;TZID=America/New_York:20211023T083000
DTEND;TZID=America/New_York:20211023T160000
DTSTAMP:20260422T063240
CREATED:20211005T142258Z
LAST-MODIFIED:20211010T142427Z
UID:10001550-1634977800-1635004800@njplanning.org
SUMMARY:Fall 2021 PP Exam Prep
DESCRIPTION:
URL:https://njplanning.org/event/fall-2021-pp-exam-prep/
LOCATION:Online Course\, United States
CATEGORIES:APA-NJ Event,Events
ORGANIZER;CN="APA New Jersey":MAILTO:office@njplanning.org
END:VEVENT
BEGIN:VEVENT
DTSTART;TZID=America/New_York:20181029T180000
DTEND;TZID=America/New_York:20181029T200000
DTSTAMP:20260422T063240
CREATED:20181015T115241Z
LAST-MODIFIED:20181015T115241Z
UID:10001461-1540836000-1540843200@njplanning.org
SUMMARY:Great Places in New Jersey Awards Reception
DESCRIPTION:
URL:https://njplanning.org/event/great-places-in-new-jersey-awards-reception/
LOCATION:South Orange Performing Arts Center\, 1 SOPAC Way\, South Orange\, NJ\, 07079\, United States
CATEGORIES:APA-NJ Event,Events
ORGANIZER;CN="APA New Jersey":MAILTO:office@njplanning.org
END:VEVENT
BEGIN:VEVENT
DTSTART;TZID=America/New_York:20181013T083000
DTEND;TZID=America/New_York:20181013T160000
DTSTAMP:20260422T063240
CREATED:20181001T114758Z
LAST-MODIFIED:20181015T115026Z
UID:10001460-1539419400-1539446400@njplanning.org
SUMMARY:Fall 2018 PP Exam Review Course
DESCRIPTION:The PP Exam Prep Course for the Fall 2018 test period will be held Saturday\, October 13 from 8:30AM to 4:00PM\, at the Edward J. Bloustein School of Planning and Public Policy\, Civic Square Building\, 33 Livingston Avenue\, 2nd Floor\, Room 261\, New Brunswick\, NJ 08901. A light breakfast will be served\, and students are encouraged to support local restaurants in the city for lunch. \nThe Review Course is expected to cover general exam topics including the State Plan\, County Planning Act\, environmental regulations\, affordable housing\, Planning Board and Board of Adjustment activities\, MLUL\, regional planning entities\, and other material relative to the PP Exam. \nAdditionally\, all students will receive a copy of the 2018 Complete Guide to Planning in New Jersey. \nQuestions?  Contact John Barree at jbarree@gmail.com. \nCost $125/Members\, $150/Non-Members \nClick here to review information from the State Board of Professional Planners.
URL:https://njplanning.org/event/fall-2018-pp-exam-review-course/
LOCATION:Bloustein School of Planning and Public Policy\, 33 Livingston Avenue\, New Brunswick\, NJ\, 08901\, United States
CATEGORIES:APA-NJ Event,Events
ORGANIZER;CN="APA New Jersey":MAILTO:office@njplanning.org
END:VEVENT
BEGIN:VEVENT
DTSTART;TZID=America/New_York:20180622T110000
DTEND;TZID=America/New_York:20180622T140000
DTSTAMP:20260422T063240
CREATED:20180611T142955Z
LAST-MODIFIED:20180712T132748Z
UID:10001454-1529665200-1529676000@njplanning.org
SUMMARY:Walking Tour of Downtown Hammonton
DESCRIPTION:Register Now  |  Download the Flyer\n  \nDesignated one of APA New Jersey’s initial Great Places in New Jersey\, Downtown Hammonton is a true standout in South Jersey; a source of renewed pride for residents\, and a destination for visitors across the region.  Attention to detail and respect for the town’s character\, culture and history have brought renewed pride and support from the town’s residents. Momentum continues to build and Hammonton is poised to take advantage of the opportunities for smart growth and economic development which come from this vibrant\, revitalized Downtown. The successful revitalization of Hammonton’s downtown draws visitors from across the region and has served as inspiration for other struggling towns to reinvigorate their own communities.
URL:https://njplanning.org/event/walking-tour-of-downtown-hammonton/
CATEGORIES:APA-NJ Event,Events
ORGANIZER;CN="APA New Jersey":MAILTO:office@njplanning.org
END:VEVENT
END:VCALENDAR