BEGIN:VCALENDAR
VERSION:2.0
PRODID:-//American Planning Association New Jersey Chapter - ECPv6.15.13//NONSGML v1.0//EN
CALSCALE:GREGORIAN
METHOD:PUBLISH
X-WR-CALNAME:American Planning Association New Jersey Chapter
X-ORIGINAL-URL:https://njplanning.org
X-WR-CALDESC:Events for American Planning Association New Jersey Chapter
REFRESH-INTERVAL;VALUE=DURATION:PT1H
X-Robots-Tag:noindex
X-PUBLISHED-TTL:PT1H
BEGIN:VTIMEZONE
TZID:America/New_York
BEGIN:DAYLIGHT
TZOFFSETFROM:-0500
TZOFFSETTO:-0400
TZNAME:EDT
DTSTART:20190310T070000
END:DAYLIGHT
BEGIN:STANDARD
TZOFFSETFROM:-0400
TZOFFSETTO:-0500
TZNAME:EST
DTSTART:20191103T060000
END:STANDARD
BEGIN:DAYLIGHT
TZOFFSETFROM:-0500
TZOFFSETTO:-0400
TZNAME:EDT
DTSTART:20200308T070000
END:DAYLIGHT
BEGIN:STANDARD
TZOFFSETFROM:-0400
TZOFFSETTO:-0500
TZNAME:EST
DTSTART:20201101T060000
END:STANDARD
BEGIN:DAYLIGHT
TZOFFSETFROM:-0500
TZOFFSETTO:-0400
TZNAME:EDT
DTSTART:20210314T070000
END:DAYLIGHT
BEGIN:STANDARD
TZOFFSETFROM:-0400
TZOFFSETTO:-0500
TZNAME:EST
DTSTART:20211107T060000
END:STANDARD
END:VTIMEZONE
BEGIN:VEVENT
DTSTART;TZID=America/New_York:20200903T100000
DTEND;TZID=America/New_York:20200903T113000
DTSTAMP:20260422T120849
CREATED:20200827T182156Z
LAST-MODIFIED:20201116T031821Z
UID:10001506-1599127200-1599132600@njplanning.org
SUMMARY:Completing the Count – Planners and the U.S. Census!
DESCRIPTION:The U.S. Census is a critical data tool that provides a resource designed to help community-based\, regional\, and statewide planning efforts. With the 2020 Census deadline on September 30th\, learn what tools you need now to ensure a complete count in your community. This session will explore how planners engaged their communities and what tools they used to increase response rates and participation in Census taking\, particularly during a pandemic. The session will also describe APA’s Census advocacy efforts at the federal level and opportunities for planners to increase advocacy for the Census and American Community Survey. The interactive panel will provide opportunities to learn from APA\, the U.S. Census NY Regional Office\, which covers most of Region 1\, and a local community’s efforts. In less than 35 days\, the 2020 census count will be closed.  Is everyone in your community counted?   Learn how to help increase the response rate\, get better data\, and enhance your community’s ability to have full representation and funding based on a full and accurate Census count. This will be a moderated panel with ample time for a participatory discussion with panelists. Join us on September 3 at 10 for the webinar. \nSpeakers: \n\nCarly Bari is a Partnership Specialist with the U.S. Census Bureau. In this role she works to promote the 2020 Census\, helps motivate people to achieve a complete count\, and educates on the importance of an accurate census.\nKelly Lynema is the Senior Planner for the Town of Arlington’s Department of Planning and Community Development\, where her work focuses on research\, data\, and community engagement\nKathleen “Kathy” McCabe\, FAICP specializes in economic development\, community planning\, market analysis\, and public financing.  As principal of McCabe Enterprises\, she works on strategic and land use planning\, downtown revitalization\, and redevelopment\nEmily Pasi is the Public Affairs Manager for the American Planning Association’s Washington\, DC office. Pasi leads APA’s Planners’ Advocacy Network of engaged planning advocates working to shape federal and state policy outcomes.\n\nCM |1.5 \nRegister Here by September 1\, 2020 5:00 pm A Zoom link will be sent to you on September 2nd. \nAttendance is limited to Region I members only.
URL:https://njplanning.org/event/completing-the-count-planners-and-the-u-s-census/
LOCATION:Online Webcast
CATEGORIES:Events
END:VEVENT
BEGIN:VEVENT
DTSTART;TZID=America/New_York:20200125T130000
DTEND;TZID=America/New_York:20200125T143000
DTSTAMP:20260422T120849
CREATED:20191209T161501Z
LAST-MODIFIED:20191209T161501Z
UID:10001488-1579957200-1579962600@njplanning.org
SUMMARY:Webinar: Participatory Planning - Improving Your Community Engagement Efforts
DESCRIPTION:
URL:https://njplanning.org/event/webinar-participatory-planning-improving-your-community-engagement-efforts/
LOCATION:Online Webcast
CATEGORIES:Events
END:VEVENT
END:VCALENDAR