BEGIN:VCALENDAR
VERSION:2.0
PRODID:-//American Planning Association New Jersey Chapter - ECPv6.15.13//NONSGML v1.0//EN
CALSCALE:GREGORIAN
METHOD:PUBLISH
X-WR-CALNAME:American Planning Association New Jersey Chapter
X-ORIGINAL-URL:https://njplanning.org
X-WR-CALDESC:Events for American Planning Association New Jersey Chapter
REFRESH-INTERVAL;VALUE=DURATION:PT1H
X-Robots-Tag:noindex
X-PUBLISHED-TTL:PT1H
BEGIN:VTIMEZONE
TZID:America/New_York
BEGIN:DAYLIGHT
TZOFFSETFROM:-0500
TZOFFSETTO:-0400
TZNAME:EDT
DTSTART:20120311T070000
END:DAYLIGHT
BEGIN:STANDARD
TZOFFSETFROM:-0400
TZOFFSETTO:-0500
TZNAME:EST
DTSTART:20121104T060000
END:STANDARD
BEGIN:DAYLIGHT
TZOFFSETFROM:-0500
TZOFFSETTO:-0400
TZNAME:EDT
DTSTART:20130310T070000
END:DAYLIGHT
BEGIN:STANDARD
TZOFFSETFROM:-0400
TZOFFSETTO:-0500
TZNAME:EST
DTSTART:20131103T060000
END:STANDARD
BEGIN:DAYLIGHT
TZOFFSETFROM:-0500
TZOFFSETTO:-0400
TZNAME:EDT
DTSTART:20140309T070000
END:DAYLIGHT
BEGIN:STANDARD
TZOFFSETFROM:-0400
TZOFFSETTO:-0500
TZNAME:EST
DTSTART:20141102T060000
END:STANDARD
END:VTIMEZONE
BEGIN:VEVENT
DTSTART;TZID=America/New_York:20130802T130000
DTEND;TZID=America/New_York:20130802T143000
DTSTAMP:20260423T143207
CREATED:20130602T203317Z
LAST-MODIFIED:20130602T204556Z
UID:10001048-1375448400-1375453800@njplanning.org
SUMMARY:Addressing the Needs of LGBT Seniors (CM Pending | 1.5)
DESCRIPTION:Addressing the Needs of LGBT Seniors: Seniors in the Lesbian\, Gay\, Bisexual\, and Transgender community face a unique\, and significant\, set of obstacles to aging comfortably\, including discrimination\, lack of certain legal protections\, and an absence of a family support system. Examine current trends in addressing the needs of LGBT seniors as well as innovative programs and services to help them age in place. \nClick here to register. 
URL:https://njplanning.org/event/addressing-the-needs-of-lgbt-seniors-cm-pending-1-5/
LOCATION:Online Webinar\, United States
CATEGORIES:APA-NJ Event,Events
END:VEVENT
END:VCALENDAR