BEGIN:VCALENDAR
VERSION:2.0
PRODID:-//American Planning Association New Jersey Chapter - ECPv6.15.13//NONSGML v1.0//EN
CALSCALE:GREGORIAN
METHOD:PUBLISH
X-WR-CALNAME:American Planning Association New Jersey Chapter
X-ORIGINAL-URL:https://njplanning.org
X-WR-CALDESC:Events for American Planning Association New Jersey Chapter
REFRESH-INTERVAL;VALUE=DURATION:PT1H
X-Robots-Tag:noindex
X-PUBLISHED-TTL:PT1H
BEGIN:VTIMEZONE
TZID:America/New_York
BEGIN:DAYLIGHT
TZOFFSETFROM:-0500
TZOFFSETTO:-0400
TZNAME:EDT
DTSTART:20140309T070000
END:DAYLIGHT
BEGIN:STANDARD
TZOFFSETFROM:-0400
TZOFFSETTO:-0500
TZNAME:EST
DTSTART:20141102T060000
END:STANDARD
BEGIN:DAYLIGHT
TZOFFSETFROM:-0500
TZOFFSETTO:-0400
TZNAME:EDT
DTSTART:20150308T070000
END:DAYLIGHT
BEGIN:STANDARD
TZOFFSETFROM:-0400
TZOFFSETTO:-0500
TZNAME:EST
DTSTART:20151101T060000
END:STANDARD
BEGIN:DAYLIGHT
TZOFFSETFROM:-0500
TZOFFSETTO:-0400
TZNAME:EDT
DTSTART:20160313T070000
END:DAYLIGHT
BEGIN:STANDARD
TZOFFSETFROM:-0400
TZOFFSETTO:-0500
TZNAME:EST
DTSTART:20161106T060000
END:STANDARD
END:VTIMEZONE
BEGIN:VEVENT
DTSTART;TZID=America/New_York:20150729T130000
DTEND;TZID=America/New_York:20150729T143000
DTSTAMP:20260422T073731
CREATED:20150721T180705Z
LAST-MODIFIED:20150721T180705Z
UID:10001366-1438174800-1438180200@njplanning.org
SUMMARY:Webinar: The Athens\, Ohio Experiment: Extracting and Implementing Local Design Essence to Increase Economic Competitiveness
DESCRIPTION:REGISTER\nAthens\, Ohio recently adopted The Essence of Athens: A Strategic Design Plan for Economic Enhancement and Community Competitiveness. This community collaboration ‘extracted’ the spirit and personality of the community and encourages architects\, landscape architects\, and planners to color outside the lines of ordinary design and create things that make people say\, “That’s so Athens.” The local government is taking the lead to create Athens-specific infrastructure and leading the charge to use local design as a powerful economic development tool. Learn how your community can use this process to find its own local design.
URL:https://njplanning.org/event/webinar-the-athens-ohio-experiment-extracting-and-implementing-local-design-essence-to-increase-economic-competitiveness/
LOCATION:Online Webinar\, United States
CATEGORIES:Events
END:VEVENT
END:VCALENDAR