BEGIN:VCALENDAR
VERSION:2.0
PRODID:-//American Planning Association New Jersey Chapter - ECPv6.15.13//NONSGML v1.0//EN
CALSCALE:GREGORIAN
METHOD:PUBLISH
X-WR-CALNAME:American Planning Association New Jersey Chapter
X-ORIGINAL-URL:https://njplanning.org
X-WR-CALDESC:Events for American Planning Association New Jersey Chapter
REFRESH-INTERVAL;VALUE=DURATION:PT1H
X-Robots-Tag:noindex
X-PUBLISHED-TTL:PT1H
BEGIN:VTIMEZONE
TZID:America/New_York
BEGIN:DAYLIGHT
TZOFFSETFROM:-0500
TZOFFSETTO:-0400
TZNAME:EDT
DTSTART:20190310T070000
END:DAYLIGHT
BEGIN:STANDARD
TZOFFSETFROM:-0400
TZOFFSETTO:-0500
TZNAME:EST
DTSTART:20191103T060000
END:STANDARD
BEGIN:DAYLIGHT
TZOFFSETFROM:-0500
TZOFFSETTO:-0400
TZNAME:EDT
DTSTART:20200308T070000
END:DAYLIGHT
BEGIN:STANDARD
TZOFFSETFROM:-0400
TZOFFSETTO:-0500
TZNAME:EST
DTSTART:20201101T060000
END:STANDARD
BEGIN:DAYLIGHT
TZOFFSETFROM:-0500
TZOFFSETTO:-0400
TZNAME:EDT
DTSTART:20210314T070000
END:DAYLIGHT
BEGIN:STANDARD
TZOFFSETFROM:-0400
TZOFFSETTO:-0500
TZNAME:EST
DTSTART:20211107T060000
END:STANDARD
END:VTIMEZONE
BEGIN:VEVENT
DTSTART;TZID=America/New_York:20200716T130000
DTEND;TZID=America/New_York:20200716T143000
DTSTAMP:20260424T123144
CREATED:20200707T163437Z
LAST-MODIFIED:20200831T154101Z
UID:10001315-1594904400-1594909800@njplanning.org
SUMMARY:Phased Re-Planning and Legal Challenges in a COVID-19 World
DESCRIPTION:Register Now \n  \nWith phased reopening underway\, planning and zoning departments across the country are trying to accommodate new methods of operation in a COVID-19 world\, as well as how those changes will carry over once we are out of the pandemic. Many planners are now armed with new tools authorized by executive order. But are these planning tools enough? Are there legal barriers that could impede their success? This program will focus on legal and planning issues which are likely to arise as businesses reopen and the pandemic concludes. Topics to be discussed will include legal issues with executive orders\, virtual hearings (and whatever hybrid form they may soon take)\, relaxation of zoning regulations and local codes\, expedited permitting processes\, and actions that can be taken now to be better prepared for the next pandemic. The program will also address equity considerations related to these issues. Each panelist will offer a different perspective on this topic as a law professor\, mayor\, and land use attorneys representing private developers and municipalities. The discussion and best practices shared are intended to assist planners in other disaster situations.
URL:https://njplanning.org/event/phased-re-planning-and-legal-challenges-in-a-covid-19-world/
LOCATION:Online Webcast
CATEGORIES:Events
END:VEVENT
END:VCALENDAR